BEGIN:VCALENDAR
VERSION:2.0
PRODID:-//Medford Rogue Rotary - ECPv6.15.20//NONSGML v1.0//EN
CALSCALE:GREGORIAN
METHOD:PUBLISH
X-ORIGINAL-URL:https://medfordrogue.org
X-WR-CALDESC:Events for Medford Rogue Rotary
REFRESH-INTERVAL;VALUE=DURATION:PT1H
X-Robots-Tag:noindex
X-PUBLISHED-TTL:PT1H
BEGIN:VTIMEZONE
TZID:America/Los_Angeles
BEGIN:DAYLIGHT
TZOFFSETFROM:-0800
TZOFFSETTO:-0700
TZNAME:PDT
DTSTART:20220313T100000
END:DAYLIGHT
BEGIN:STANDARD
TZOFFSETFROM:-0700
TZOFFSETTO:-0800
TZNAME:PST
DTSTART:20221106T090000
END:STANDARD
BEGIN:DAYLIGHT
TZOFFSETFROM:-0800
TZOFFSETTO:-0700
TZNAME:PDT
DTSTART:20230312T100000
END:DAYLIGHT
BEGIN:STANDARD
TZOFFSETFROM:-0700
TZOFFSETTO:-0800
TZNAME:PST
DTSTART:20231105T090000
END:STANDARD
BEGIN:DAYLIGHT
TZOFFSETFROM:-0800
TZOFFSETTO:-0700
TZNAME:PDT
DTSTART:20240310T100000
END:DAYLIGHT
BEGIN:STANDARD
TZOFFSETFROM:-0700
TZOFFSETTO:-0800
TZNAME:PST
DTSTART:20241103T090000
END:STANDARD
END:VTIMEZONE
BEGIN:VEVENT
DTSTART;TZID=America/Los_Angeles:20230705T120000
DTEND;TZID=America/Los_Angeles:20230705T130000
DTSTAMP:20260422T224826
CREATED:20230621T202948Z
LAST-MODIFIED:20230630T202142Z
UID:1437-1688558400-1688562000@medfordrogue.org
SUMMARY:Club Meeting - Blood Diamonds
DESCRIPTION:  \n\n\n\nProgram Title: Blood Diamonds \n\n\n\n\n\n\nSpeaker: Allen and Marjo White\nFellowship: Jan & Larry Hildebrandt and their guest speakers will be at the Hummingbird Estates Winery (1677 Old Stage Rd Central Point) from 3-5ish p.m. Please stop by if you would like to learn more about Justice for the Blood Diamond victims in Sierra Leone.\nThis will be a no-host event and no RSVP is necessary\n\n\n\n  \n\n\n\nGreeter: Paul Christy \n\n\n\n  \n\n\n\nAttendance: Roger Hassenpflug \n\n\n\n  \n\n\n\nInspiration:  Brian Watkins\n\n\n\n  \n\n\n\nSergeants: Larry Hilderbrandt \n\n\n\n  \n 
URL:https://medfordrogue.org/event/club-meeting/
LOCATION:Rogue Valley Country Club\, 2660 Hillcrest Rd\, Medford\, OR\, 97504\, United States
CATEGORIES:Club Meeting
END:VEVENT
BEGIN:VEVENT
DTSTART;TZID=America/Los_Angeles:20230712T120000
DTEND;TZID=America/Los_Angeles:20230712T130000
DTSTAMP:20260422T224826
CREATED:20230623T143618Z
LAST-MODIFIED:20230706T183836Z
UID:1443-1689163200-1689166800@medfordrogue.org
SUMMARY:Club Meeting - Valley of the Rogue State Park
DESCRIPTION:  \n\n\n\nProgram Title: Valley of the Rogue State Park\n\n\n\n  \n\n\n\nSpeaker: Nathan Stable\n\n\n\n  \n\n\n\nGreeter: I’m not sure who the greeter will be for this meeting. \n\n\n\n  \n\n\n\nAttendance: Roger Hassenpflug \n\n\n\n  \n\n\n\nInspiration: Julie Gillis\n\n\n\n  \n\n\n\nSergeants: Claudette Moore\n\n\n\n  \n 
URL:https://medfordrogue.org/event/club-meeting-july-12/
CATEGORIES:Club Meeting
END:VEVENT
BEGIN:VEVENT
DTSTART;TZID=America/Los_Angeles:20230719T121000
DTEND;TZID=America/Los_Angeles:20230719T131000
DTSTAMP:20260422T224826
CREATED:20230630T062225Z
LAST-MODIFIED:20230707T162933Z
UID:1477-1689768600-1689772200@medfordrogue.org
SUMMARY:No Club Meeting This Week-July 19th
DESCRIPTION:We will not be meeting this week.
URL:https://medfordrogue.org/event/no-club-meeting-future-meeting-test-2/
CATEGORIES:Club Meeting
END:VEVENT
BEGIN:VEVENT
DTSTART;TZID=America/Los_Angeles:20230726T120000
DTEND;TZID=America/Los_Angeles:20230726T130000
DTSTAMP:20260422T224826
CREATED:20230623T143655Z
LAST-MODIFIED:20230716T140713Z
UID:1444-1690372800-1690376400@medfordrogue.org
SUMMARY:Club Meeting - Can We Uncomplicate the Homeless Issue?
DESCRIPTION:  \n\n\n\nProgram Title: “Can we uncomplicate the Homeless Issue?” Grass roots and deep dive efforts by David and Al have resulted in must-know information for the concerned community. How can we help change this?\n\n\n\n  \n\n\n\nSpeaker: David Wright and Al Densmore\n\n\n\n  \n\n\n\nGreeter:\n\n\n\n  \n\n\n\nAttendance: Roger Hassenpflug \n\n\n\n  \n\n\n\nInspiration: Barbara Laskin\n\n\n\n  \n\n\n\nSergeants: Gene Taylor\n\n\n\n  \n 
URL:https://medfordrogue.org/event/club-meeting-july-26-2023/
CATEGORIES:Club Meeting
END:VEVENT
END:VCALENDAR