BEGIN:VCALENDAR
VERSION:2.0
PRODID:-//Medford Rogue Rotary - ECPv6.15.20//NONSGML v1.0//EN
CALSCALE:GREGORIAN
METHOD:PUBLISH
X-WR-CALNAME:Medford Rogue Rotary
X-ORIGINAL-URL:https://medfordrogue.org
X-WR-CALDESC:Events for Medford Rogue Rotary
REFRESH-INTERVAL;VALUE=DURATION:PT1H
X-Robots-Tag:noindex
X-PUBLISHED-TTL:PT1H
BEGIN:VTIMEZONE
TZID:America/Los_Angeles
BEGIN:DAYLIGHT
TZOFFSETFROM:-0800
TZOFFSETTO:-0700
TZNAME:PDT
DTSTART:20220313T100000
END:DAYLIGHT
BEGIN:STANDARD
TZOFFSETFROM:-0700
TZOFFSETTO:-0800
TZNAME:PST
DTSTART:20221106T090000
END:STANDARD
BEGIN:DAYLIGHT
TZOFFSETFROM:-0800
TZOFFSETTO:-0700
TZNAME:PDT
DTSTART:20230312T100000
END:DAYLIGHT
BEGIN:STANDARD
TZOFFSETFROM:-0700
TZOFFSETTO:-0800
TZNAME:PST
DTSTART:20231105T090000
END:STANDARD
BEGIN:DAYLIGHT
TZOFFSETFROM:-0800
TZOFFSETTO:-0700
TZNAME:PDT
DTSTART:20240310T100000
END:DAYLIGHT
BEGIN:STANDARD
TZOFFSETFROM:-0700
TZOFFSETTO:-0800
TZNAME:PST
DTSTART:20241103T090000
END:STANDARD
END:VTIMEZONE
BEGIN:VEVENT
DTSTART;TZID=America/Los_Angeles:20230802T001000
DTEND;TZID=America/Los_Angeles:20230802T131000
DTSTAMP:20260422T210330
CREATED:20230630T062025Z
LAST-MODIFIED:20230808T182103Z
UID:1476-1690935000-1690981800@medfordrogue.org
SUMMARY:Club Meeting - What is a Shelter Box?
DESCRIPTION:  \n\n\n\nProgram Title: What is a Shelter Box?\n\n\n\n  \n\n\n\nSpeaker: Peggy Carlaw\, ShelterBox Ambassador\n\n\n\n  \n\n\n\nProgram Introducer: Phil Meyer\n\n\n\n  \n\n\n\nGreeter:\n\n\n\n  \n\n\n\nAttendance: Carol Neil\n\n\n\n  \n\n\n\nInspiration: Julie Gillis\n\n\n\n  \n\n\n\nSergeants: Judy Lininger\n\n\n\n  \n 
URL:https://medfordrogue.org/event/club-meeting-future-meeting-test-4/
CATEGORIES:Club Meeting
END:VEVENT
BEGIN:VEVENT
DTSTART;TZID=America/Los_Angeles:20230809T121000
DTEND;TZID=America/Los_Angeles:20230809T131000
DTSTAMP:20260422T210330
CREATED:20230718T225326Z
LAST-MODIFIED:20230809T222225Z
UID:1542-1691583000-1691586600@medfordrogue.org
SUMMARY:Club Meeting - Beyond the Terminals... Rogue Valley International-Medford Airport
DESCRIPTION:Program Title: Beyond the Terminals: How airports are helping strengthen communities and promote culture.\nSpeaker: Mike Doil\, Manager\, Economic and Air Service Development\, Rogue Valley International Medford Airport\nProgram Introducer: Claudette Moore\nGreeter: Eric Hodnett\nAttendance: Carol Neil\nInspiration: Brian Watkins\nSergeants: Baylee LaVoie
URL:https://medfordrogue.org/event/club-meeting-2/
CATEGORIES:Club Meeting
END:VEVENT
BEGIN:VEVENT
DTSTART;TZID=America/Los_Angeles:20230814T121000
DTEND;TZID=America/Los_Angeles:20230814T131000
DTSTAMP:20260422T210330
CREATED:20230814T152719Z
LAST-MODIFIED:20230814T152719Z
UID:1648-1692015000-1692018600@medfordrogue.org
SUMMARY:Club Event
DESCRIPTION:Program Title: TBD\nSpeaker: TBD\nProgram Introducer: TBD\nGreeter: Beth Zerkel\nAttendance: TBD\nInspiration: TBD\nSergeants: TBD
URL:https://medfordrogue.org/event/club-event/
CATEGORIES:Club Meeting
END:VEVENT
BEGIN:VEVENT
DTSTART;TZID=America/Los_Angeles:20230816T080000
DTEND;TZID=America/Los_Angeles:20230816T170000
DTSTAMP:20260422T210330
CREATED:20230718T225519Z
LAST-MODIFIED:20230808T182750Z
UID:1543-1692172800-1692205200@medfordrogue.org
SUMMARY:Club Meeting - NO MEETING THIS WEEK
DESCRIPTION:
URL:https://medfordrogue.org/event/club-meeting-no-meeting-week/
CATEGORIES:Club Meeting
END:VEVENT
BEGIN:VEVENT
DTSTART;TZID=America/Los_Angeles:20230823T121000
DTEND;TZID=America/Los_Angeles:20230823T131000
DTSTAMP:20260422T210330
CREATED:20230718T225649Z
LAST-MODIFIED:20230823T221214Z
UID:1544-1692792600-1692796200@medfordrogue.org
SUMMARY:Club Meeting - Experience the "International" in Rotary International
DESCRIPTION:  \n\n\n\n\n\n\n\n\nProgram Title: Experience the “International” in Rotary International World Community Service update about district grants\, with a focus on an upcoming project to provide clean water systems to 200 homes\, including a travel opportunity in Puerto Rico\, March 10-18. A brief update for the Educational Program in Guatemala\, which will receive DDF will also be mentioned. A brief update of the Ecuador Global Grant project\, depending on progress.\n\n\n\n\n\nSpeaker: Linda Brown\, Jorge Coromac of Woodland Charity Rotarian\nProgram Introducer: TBD\nGreeter: Ben Kalina\nAttendance: Carol Neil\nInspiration: Linda Brown\nSergeants: Gina Clyburn\n\n\n\n\n\n  \n 
URL:https://medfordrogue.org/event/club-meeting-3/
CATEGORIES:Club Meeting
END:VEVENT
BEGIN:VEVENT
DTSTART;TZID=America/Los_Angeles:20230830T120000
DTEND;TZID=America/Los_Angeles:20230830T130000
DTSTAMP:20260422T210330
CREATED:20230809T135629Z
LAST-MODIFIED:20230816T155301Z
UID:1624-1693396800-1693400400@medfordrogue.org
SUMMARY:DACdb & MyRotary Training
DESCRIPTION:If these essential tools aren’t your main connection to Rotary\, we’ll help you ensure they are.  Find how to contact any member\, check your donations\, and more! \nMedford Library – Carpenter Room
URL:https://medfordrogue.org/event/no-club-meeting-august-30th/
LOCATION:Medford Library\, 205 S Central Ave\, Medford
CATEGORIES:Club Meeting
END:VEVENT
END:VCALENDAR