BEGIN:VCALENDAR
VERSION:2.0
PRODID:-//Medford Rogue Rotary - ECPv6.15.20//NONSGML v1.0//EN
CALSCALE:GREGORIAN
METHOD:PUBLISH
X-ORIGINAL-URL:https://medfordrogue.org
X-WR-CALDESC:Events for Medford Rogue Rotary
REFRESH-INTERVAL;VALUE=DURATION:PT1H
X-Robots-Tag:noindex
X-PUBLISHED-TTL:PT1H
BEGIN:VTIMEZONE
TZID:America/Los_Angeles
BEGIN:DAYLIGHT
TZOFFSETFROM:-0800
TZOFFSETTO:-0700
TZNAME:PDT
DTSTART:20220313T100000
END:DAYLIGHT
BEGIN:STANDARD
TZOFFSETFROM:-0700
TZOFFSETTO:-0800
TZNAME:PST
DTSTART:20221106T090000
END:STANDARD
BEGIN:DAYLIGHT
TZOFFSETFROM:-0800
TZOFFSETTO:-0700
TZNAME:PDT
DTSTART:20230312T100000
END:DAYLIGHT
BEGIN:STANDARD
TZOFFSETFROM:-0700
TZOFFSETTO:-0800
TZNAME:PST
DTSTART:20231105T090000
END:STANDARD
BEGIN:DAYLIGHT
TZOFFSETFROM:-0800
TZOFFSETTO:-0700
TZNAME:PDT
DTSTART:20240310T100000
END:DAYLIGHT
BEGIN:STANDARD
TZOFFSETFROM:-0700
TZOFFSETTO:-0800
TZNAME:PST
DTSTART:20241103T090000
END:STANDARD
END:VTIMEZONE
BEGIN:VEVENT
DTSTART;TZID=America/Los_Angeles:20230906T121000
DTEND;TZID=America/Los_Angeles:20230906T131000
DTSTAMP:20260422T191556
CREATED:20230814T152523Z
LAST-MODIFIED:20230829T172005Z
UID:1646-1694002200-1694005800@medfordrogue.org
SUMMARY:Club Meeting - Overview of the Film Industry in Southern Oregon
DESCRIPTION:Program Title: An Overview of the Film Industry in Southern Oregon\nSpeaker: Courtney Williams\, Writer\, Director\, and Board member of Oregon Media Production Association\nProgram Introducer: Claudette Moore to Ray Robison\nGreeter: Amber Myre and Danette Moss\nAttendance: Beth Zerkel\nInspiration: Brian Watkins\nSergeants: Claudette Moore
URL:https://medfordrogue.org/event/club-meeting-5/
CATEGORIES:Club Meeting
END:VEVENT
BEGIN:VEVENT
DTSTART;TZID=America/Los_Angeles:20230913T121000
DTEND;TZID=America/Los_Angeles:20230913T131000
DTSTAMP:20260422T191556
CREATED:20230814T152931Z
LAST-MODIFIED:20230829T172101Z
UID:1649-1694607000-1694610600@medfordrogue.org
SUMMARY:Club Meeting - Positive Impacts of Measure 110
DESCRIPTION:Program Title: Positive Impacts of Measure 110 – Supporting young folks toward recovery\nSpeaker: Mason Weems\, Peer Support Recovery Specialist\, Youth Era\nProgram Introducer: President Kellie\nGreeter: Kerri May and Doug Huecker\nAttendance: Beth Zerkel\nInspiration: Barbara Laskin\nSergeants: Gene Taylor
URL:https://medfordrogue.org/event/club-meeting-6/
CATEGORIES:Club Meeting
END:VEVENT
BEGIN:VEVENT
DTSTART;TZID=America/Los_Angeles:20230920T121000
DTEND;TZID=America/Los_Angeles:20230920T131000
DTSTAMP:20260422T191556
CREATED:20230831T162027Z
LAST-MODIFIED:20230912T073138Z
UID:1717-1695211800-1695215400@medfordrogue.org
SUMMARY:Club Meeting - September 20 No Regular Club Meeting
DESCRIPTION:There is no club meeting today.  Pretend like you don’t see a meeting location or zoom link they are a fixed item.
URL:https://medfordrogue.org/event/club-meeting-september-20-no-regular-club-meeting/
CATEGORIES:Club Meeting
END:VEVENT
BEGIN:VEVENT
DTSTART;TZID=America/Los_Angeles:20230920T233000
DTEND;TZID=America/Los_Angeles:20230920T233000
DTSTAMP:20260422T191556
CREATED:20230915T003523Z
LAST-MODIFIED:20230915T003947Z
UID:1752-1695252600-1695252600@medfordrogue.org
SUMMARY:Tiger Den Project
DESCRIPTION:The Tiger Den has moved to it’s new location and they need our help with a few items. \n\nPutting together 5 chairs (bring tools)\nArranging books on book shelves\n\nThee is always a need for snacks along with girls sweaters and boy’s T-Shirts \nAddress:  Innovation Academy\, 1321 Center Drive\, Medford
URL:https://medfordrogue.org/event/tiger-den-project/
CATEGORIES:Club Meeting
END:VEVENT
BEGIN:VEVENT
DTSTART;TZID=America/Los_Angeles:20230927T121000
DTEND;TZID=America/Los_Angeles:20230927T131000
DTSTAMP:20260422T191556
CREATED:20230814T153510Z
LAST-MODIFIED:20230829T172221Z
UID:1650-1695816600-1695820200@medfordrogue.org
SUMMARY:Club Meeting - Tucker Sno-Cat
DESCRIPTION:Program Title: Tucker Sno-Cat\nSpeaker: Daniel Dressler\nProgram Introducer: TBD\nGreeter: Carol Fisher and Greg Jones\nAttendance: Beth Zerkel\nInspiration: Julie Gillis\nSergeants: Desirae Anthony
URL:https://medfordrogue.org/event/club-meeting-4/
CATEGORIES:Club Meeting
END:VEVENT
END:VCALENDAR