BEGIN:VCALENDAR
VERSION:2.0
PRODID:-//Medford Rogue Rotary - ECPv6.15.20//NONSGML v1.0//EN
CALSCALE:GREGORIAN
METHOD:PUBLISH
X-WR-CALNAME:Medford Rogue Rotary
X-ORIGINAL-URL:https://medfordrogue.org
X-WR-CALDESC:Events for Medford Rogue Rotary
REFRESH-INTERVAL;VALUE=DURATION:PT1H
X-Robots-Tag:noindex
X-PUBLISHED-TTL:PT1H
BEGIN:VTIMEZONE
TZID:America/Los_Angeles
BEGIN:DAYLIGHT
TZOFFSETFROM:-0800
TZOFFSETTO:-0700
TZNAME:PDT
DTSTART:20220313T100000
END:DAYLIGHT
BEGIN:STANDARD
TZOFFSETFROM:-0700
TZOFFSETTO:-0800
TZNAME:PST
DTSTART:20221106T090000
END:STANDARD
BEGIN:DAYLIGHT
TZOFFSETFROM:-0800
TZOFFSETTO:-0700
TZNAME:PDT
DTSTART:20230312T100000
END:DAYLIGHT
BEGIN:STANDARD
TZOFFSETFROM:-0700
TZOFFSETTO:-0800
TZNAME:PST
DTSTART:20231105T090000
END:STANDARD
BEGIN:DAYLIGHT
TZOFFSETFROM:-0800
TZOFFSETTO:-0700
TZNAME:PDT
DTSTART:20240310T100000
END:DAYLIGHT
BEGIN:STANDARD
TZOFFSETFROM:-0700
TZOFFSETTO:-0800
TZNAME:PST
DTSTART:20241103T090000
END:STANDARD
END:VTIMEZONE
BEGIN:VEVENT
DTSTART;TZID=America/Los_Angeles:20231004T121000
DTEND;TZID=America/Los_Angeles:20231004T131000
DTSTAMP:20260422T165900
CREATED:20230915T002325Z
LAST-MODIFIED:20230929T145956Z
UID:1748-1696421400-1696425000@medfordrogue.org
SUMMARY:Club Meeting - Oregon Shakespeare Festival
DESCRIPTION:Program Title: Oregon Shakespeare Festival\nSpeaker: Tyler Hokama\, Exec Director and Tim Bond\, Artistic Director\nProgram Introducer: Joy Marshall\nGreeter: TBD\nAttendance: Nancy Walden\nSergeants: Ian Foster
URL:https://medfordrogue.org/event/club-meeting-oct-4/
CATEGORIES:Club Meeting
END:VEVENT
BEGIN:VEVENT
DTSTART;TZID=America/Los_Angeles:20231011T120000
DTEND;TZID=America/Los_Angeles:20231011T130000
DTSTAMP:20260422T165900
CREATED:20230809T221421Z
LAST-MODIFIED:20231009T143834Z
UID:1626-1697025600-1697029200@medfordrogue.org
SUMMARY:Club Meeting - Makena Children's Foundation update
DESCRIPTION:Program Title: Makena Children’s Foundation update\nSpeaker: Charles Karanja\, Kenyan Manager of Makena Children’s Foundation\, and Anne Batzer\, current Foundation President\nProgram Introducer: Paul Robinson\nGreeter: Bruce Laid and Greg Jones\nAttendance: Nancy Walden\nSergeants: David Wilkerson
URL:https://medfordrogue.org/event/club-meeting-makena-childrens-foundation-update/
CATEGORIES:Club Meeting
END:VEVENT
BEGIN:VEVENT
DTSTART;TZID=America/Los_Angeles:20231018T121000
DTEND;TZID=America/Los_Angeles:20231018T131000
DTSTAMP:20260422T165900
CREATED:20230915T002759Z
LAST-MODIFIED:20231003T215304Z
UID:1750-1697631000-1697634600@medfordrogue.org
SUMMARY:No Club Meeting October 18th
DESCRIPTION:Just a reminder we do not have a  formal club meeting today. \nPlease disregard the meeting info/link it is a pre-set text
URL:https://medfordrogue.org/event/no-club-meeting-october-18th/
CATEGORIES:Club Meeting
ATTACH;FMTTYPE=image/jpeg:https://medfordrogue.org/wp-content/uploads/2023/04/No-meeting-July-22nd.jpg
END:VEVENT
BEGIN:VEVENT
DTSTART;TZID=America/Los_Angeles:20231025T121000
DTEND;TZID=America/Los_Angeles:20231025T131000
DTSTAMP:20260422T165900
CREATED:20230915T002922Z
LAST-MODIFIED:20231023T015115Z
UID:1751-1698235800-1698239400@medfordrogue.org
SUMMARY:Club Meeting - Hula for Lahaina
DESCRIPTION:Program Title: Hula for Lahaina – a Special program with the opportunity to give to help the fire victims in Lahaina\nSpeaker: Kat Greene\nProgram Introducer: Kellie Hill\nGreeter: Gene Taylor and Emma Nelson\nAttendance: Nancy Walden\nSergeants: No Sergeant
URL:https://medfordrogue.org/event/club-meeting-oct-25/
CATEGORIES:Club Meeting
END:VEVENT
END:VCALENDAR