BEGIN:VCALENDAR
VERSION:2.0
PRODID:-//Medford Rogue Rotary - ECPv6.15.20//NONSGML v1.0//EN
CALSCALE:GREGORIAN
METHOD:PUBLISH
X-WR-CALNAME:Medford Rogue Rotary
X-ORIGINAL-URL:https://medfordrogue.org
X-WR-CALDESC:Events for Medford Rogue Rotary
REFRESH-INTERVAL;VALUE=DURATION:PT1H
X-Robots-Tag:noindex
X-PUBLISHED-TTL:PT1H
BEGIN:VTIMEZONE
TZID:America/Los_Angeles
BEGIN:DAYLIGHT
TZOFFSETFROM:-0800
TZOFFSETTO:-0700
TZNAME:PDT
DTSTART:20220313T100000
END:DAYLIGHT
BEGIN:STANDARD
TZOFFSETFROM:-0700
TZOFFSETTO:-0800
TZNAME:PST
DTSTART:20221106T090000
END:STANDARD
BEGIN:DAYLIGHT
TZOFFSETFROM:-0800
TZOFFSETTO:-0700
TZNAME:PDT
DTSTART:20230312T100000
END:DAYLIGHT
BEGIN:STANDARD
TZOFFSETFROM:-0700
TZOFFSETTO:-0800
TZNAME:PST
DTSTART:20231105T090000
END:STANDARD
BEGIN:DAYLIGHT
TZOFFSETFROM:-0800
TZOFFSETTO:-0700
TZNAME:PDT
DTSTART:20240310T100000
END:DAYLIGHT
BEGIN:STANDARD
TZOFFSETFROM:-0700
TZOFFSETTO:-0800
TZNAME:PST
DTSTART:20241103T090000
END:STANDARD
END:VTIMEZONE
BEGIN:VEVENT
DTSTART;TZID=America/Los_Angeles:20231101T121000
DTEND;TZID=America/Los_Angeles:20231101T131000
DTSTAMP:20260422T152643
CREATED:20230920T142754Z
LAST-MODIFIED:20231025T224101Z
UID:1765-1698840600-1698844200@medfordrogue.org
SUMMARY:Club Meeting - Medford School District Update and Innovation Academy
DESCRIPTION:Program Title: Medford School District update and Innovation Academy\nSpeaker: Superintendent Brett Champion and Cass Thornstad\nProgram Introducer: Marissa Poling\nGreeter: Pat Barry & Paul Christy\nAttendance: TBD\nSergeants: Kevin Shahalami
URL:https://medfordrogue.org/event/club-meeting-nov-1/
CATEGORIES:Club Meeting
END:VEVENT
BEGIN:VEVENT
DTSTART;TZID=America/Los_Angeles:20231108T121000
DTEND;TZID=America/Los_Angeles:20231108T130000
DTSTAMP:20260422T152643
CREATED:20230920T142839Z
LAST-MODIFIED:20231025T224341Z
UID:1766-1699445400-1699448400@medfordrogue.org
SUMMARY:Club Meeting-Holly Theater Update
DESCRIPTION:Program Title: Holly Theater — Then and Now\nSpeaker: Ron McUne\, Holly co-chair and Shelley Austin ED\, Jefferson live!\nProgram Introducer: Doug Schmor\nGreeter: Ellen Naumes and Doug Huecker\nAttendance: TBD\nSergeants: Gina Clyburn
URL:https://medfordrogue.org/event/club-meeting-november-8/
CATEGORIES:Club Meeting
ATTACH;FMTTYPE=image/png:https://medfordrogue.org/wp-content/uploads/2023/09/The-Holly-2-resized.png
END:VEVENT
BEGIN:VEVENT
DTSTART;TZID=America/Los_Angeles:20231115T121000
DTEND;TZID=America/Los_Angeles:20231115T131000
DTSTAMP:20260422T152643
CREATED:20231113T124902Z
LAST-MODIFIED:20231113T174315Z
UID:2157-1700050200-1700053800@medfordrogue.org
SUMMARY:November 15 NO MEETING
DESCRIPTION:Just a reminder we do not have a  formal club meeting today. \nPlease disregard the meeting info/link it is a pre-set text
URL:https://medfordrogue.org/event/november-15-no-meeting/
CATEGORIES:Club Meeting
ATTACH;FMTTYPE=image/jpeg:https://medfordrogue.org/wp-content/uploads/2023/04/No-meeting-July-22nd.jpg
END:VEVENT
BEGIN:VEVENT
DTSTART;TZID=America/Los_Angeles:20231122T121000
DTEND;TZID=America/Los_Angeles:20231122T131000
DTSTAMP:20260422T152643
CREATED:20231113T125040Z
LAST-MODIFIED:20231115T012344Z
UID:2159-1700655000-1700658600@medfordrogue.org
SUMMARY:November 22 NO MEETING
DESCRIPTION:Just a reminder we do not have a  formal club meeting today. \nPlease disregard the meeting info/link it is a pre-set text \n  \nHappy Thanksgiving
URL:https://medfordrogue.org/event/november-22-no-meeting/
CATEGORIES:Club Meeting
END:VEVENT
BEGIN:VEVENT
DTSTART;TZID=America/Los_Angeles:20231129T121000
DTEND;TZID=America/Los_Angeles:20231129T131000
DTSTAMP:20260422T152643
CREATED:20230920T142957Z
LAST-MODIFIED:20231111T223834Z
UID:1767-1701259800-1701263400@medfordrogue.org
SUMMARY:Club Meeting-Governor's Report
DESCRIPTION:Program Title: Governor’s Report \n\nSpeaker: Jim Polk\nProgram Introducer: AG Michelle Coradetti \nGreeter: Beth Reger and Ellen Naumes\nAttendance: Beth Zerkel\nSergeants: Judy Lininger
URL:https://medfordrogue.org/event/club-meeting-november-29/
CATEGORIES:Club Meeting
ATTACH;FMTTYPE=image/jpeg:https://medfordrogue.org/wp-content/uploads/2023/09/M800103458.jpg
END:VEVENT
END:VCALENDAR