BEGIN:VCALENDAR
VERSION:2.0
PRODID:-//Medford Rogue Rotary - ECPv6.15.20//NONSGML v1.0//EN
CALSCALE:GREGORIAN
METHOD:PUBLISH
X-ORIGINAL-URL:https://medfordrogue.org
X-WR-CALDESC:Events for Medford Rogue Rotary
REFRESH-INTERVAL;VALUE=DURATION:PT1H
X-Robots-Tag:noindex
X-PUBLISHED-TTL:PT1H
BEGIN:VTIMEZONE
TZID:America/Los_Angeles
BEGIN:DAYLIGHT
TZOFFSETFROM:-0800
TZOFFSETTO:-0700
TZNAME:PDT
DTSTART:20230312T100000
END:DAYLIGHT
BEGIN:STANDARD
TZOFFSETFROM:-0700
TZOFFSETTO:-0800
TZNAME:PST
DTSTART:20231105T090000
END:STANDARD
BEGIN:DAYLIGHT
TZOFFSETFROM:-0800
TZOFFSETTO:-0700
TZNAME:PDT
DTSTART:20240310T100000
END:DAYLIGHT
BEGIN:STANDARD
TZOFFSETFROM:-0700
TZOFFSETTO:-0800
TZNAME:PST
DTSTART:20241103T090000
END:STANDARD
BEGIN:DAYLIGHT
TZOFFSETFROM:-0800
TZOFFSETTO:-0700
TZNAME:PDT
DTSTART:20250309T100000
END:DAYLIGHT
BEGIN:STANDARD
TZOFFSETFROM:-0700
TZOFFSETTO:-0800
TZNAME:PST
DTSTART:20251102T090000
END:STANDARD
END:VTIMEZONE
BEGIN:VEVENT
DTSTART;TZID=America/Los_Angeles:20241106T121000
DTEND;TZID=America/Los_Angeles:20241106T131000
DTSTAMP:20260421T173555
CREATED:20241105T192706Z
LAST-MODIFIED:20241105T192825Z
UID:57098-1730895000-1730898600@medfordrogue.org
SUMMARY:Club Meeting-November 6 - SCORE
DESCRIPTION:Program Title: JFK and Score – Small Business in America\nScore is an operating partner of the SBA and provides mentoring to small business.\nSpeaker: Bruce Kelling\, retired CEO of Tiburon\, Inc.  Mento of the S O Branch of SCORE\nProgram Introducer: Sue Kupillas\nGreeter: Jessica King and Linda Brown/Natchi\nAttendance: Brian Watkins\nSergeants: Kurt Hildebrand
URL:https://medfordrogue.org/event/club-meeting-november-6/
CATEGORIES:Club Meeting
ATTACH;FMTTYPE=image/jpeg:https://medfordrogue.org/wp-content/uploads/2024/10/Meeting-Image.jpg
END:VEVENT
BEGIN:VEVENT
DTSTART;TZID=America/Los_Angeles:20241113T121000
DTEND;TZID=America/Los_Angeles:20241113T131000
DTSTAMP:20260421T173555
CREATED:20240911T132705Z
LAST-MODIFIED:20241104T162532Z
UID:56758-1731499800-1731503400@medfordrogue.org
SUMMARY:Club Meeting-November 13
DESCRIPTION:Program Title: Zooming in on the Rogue Valley Economy\nSpeaker: Marta Tarantsey\, Regional Development Officer with Business Oregon\nProgram Introducer: Kurt Hildebrand\nGreeter: TBD\nAttendance: Brian Watkins\nSergeants: Kevin Shahalami
URL:https://medfordrogue.org/event/club-meeting-november-13/
CATEGORIES:Club Meeting
ATTACH;FMTTYPE=image/jpeg:https://medfordrogue.org/wp-content/uploads/2024/10/Meeting-Image.jpg
END:VEVENT
BEGIN:VEVENT
DTSTART;TZID=America/Los_Angeles:20241120T121000
DTEND;TZID=America/Los_Angeles:20241120T131000
DTSTAMP:20260421T173555
CREATED:20240911T132837Z
LAST-MODIFIED:20241118T231624Z
UID:56760-1732104600-1732108200@medfordrogue.org
SUMMARY:November 20th - Speed Dating
DESCRIPTION:  \n \n\nProgram Title: Speed Dating\nSpeaker: Fellowship Committee\nProgram Introducer: President Rachel\nGreeter: TBD\nAttendance: Brian Watkins\nSergeants: Judy Lininger\n\n“Test Run” Meeting at 360 Building \n 
URL:https://medfordrogue.org/event/club-meeting-november-20th/
LOCATION:360 Building\, 360 East Jackson\, 360 East Jackson St\, Medford\, OR
CATEGORIES:Club Meeting
ATTACH;FMTTYPE=image/png:https://medfordrogue.org/wp-content/uploads/2024/09/Speed-Dating-Post-1.png
END:VEVENT
BEGIN:VEVENT
DTSTART;TZID=America/Los_Angeles:20241127T121000
DTEND;TZID=America/Los_Angeles:20241127T131500
DTSTAMP:20260421T173555
CREATED:20240911T133841Z
LAST-MODIFIED:20241122T195729Z
UID:56767-1732709400-1732713300@medfordrogue.org
SUMMARY:Club Meeting November 27th - No Meeting
DESCRIPTION:
URL:https://medfordrogue.org/event/club-meeting-november-27th-no-meeting/
CATEGORIES:Club Meeting
ATTACH;FMTTYPE=image/jpeg:https://medfordrogue.org/wp-content/uploads/2023/04/1682386577_No-meeting-July-22nd.jpg
END:VEVENT
END:VCALENDAR