BEGIN:VCALENDAR
VERSION:2.0
PRODID:-//Medford Rogue Rotary - ECPv6.15.20//NONSGML v1.0//EN
CALSCALE:GREGORIAN
METHOD:PUBLISH
X-WR-CALNAME:Medford Rogue Rotary
X-ORIGINAL-URL:https://medfordrogue.org
X-WR-CALDESC:Events for Medford Rogue Rotary
REFRESH-INTERVAL;VALUE=DURATION:PT1H
X-Robots-Tag:noindex
X-PUBLISHED-TTL:PT1H
BEGIN:VTIMEZONE
TZID:America/Los_Angeles
BEGIN:DAYLIGHT
TZOFFSETFROM:-0800
TZOFFSETTO:-0700
TZNAME:PDT
DTSTART:20240310T100000
END:DAYLIGHT
BEGIN:STANDARD
TZOFFSETFROM:-0700
TZOFFSETTO:-0800
TZNAME:PST
DTSTART:20241103T090000
END:STANDARD
BEGIN:DAYLIGHT
TZOFFSETFROM:-0800
TZOFFSETTO:-0700
TZNAME:PDT
DTSTART:20250309T100000
END:DAYLIGHT
BEGIN:STANDARD
TZOFFSETFROM:-0700
TZOFFSETTO:-0800
TZNAME:PST
DTSTART:20251102T090000
END:STANDARD
BEGIN:DAYLIGHT
TZOFFSETFROM:-0800
TZOFFSETTO:-0700
TZNAME:PDT
DTSTART:20260308T100000
END:DAYLIGHT
BEGIN:STANDARD
TZOFFSETFROM:-0700
TZOFFSETTO:-0800
TZNAME:PST
DTSTART:20261101T090000
END:STANDARD
END:VTIMEZONE
BEGIN:VEVENT
DTSTART;TZID=America/Los_Angeles:20250402T121500
DTEND;TZID=America/Los_Angeles:20250402T131500
DTSTAMP:20260421T090603
CREATED:20250109T194041Z
LAST-MODIFIED:20250325T162050Z
UID:57276-1743596100-1743599700@medfordrogue.org
SUMMARY:April 2\, 2025 Tomorrow Needs You -Mental Health and Suicide Prevention
DESCRIPTION:Program Title: Tomorrow Needs You -Mental Health and Suicide Prevention\nSpeaker: Bob Wise and Dee Anne Everson\nProgram Introducer: Kingsley Kelly\nSergeants: Kevin Shahalami
URL:https://medfordrogue.org/event/april-2-2025-club-meeting/
CATEGORIES:Club Meeting
END:VEVENT
BEGIN:VEVENT
DTSTART;TZID=America/Los_Angeles:20250409T121500
DTEND;TZID=America/Los_Angeles:20250409T131500
DTSTAMP:20260421T090603
CREATED:20250109T194228Z
LAST-MODIFIED:20250320T134841Z
UID:57279-1744200900-1744204500@medfordrogue.org
SUMMARY:April 9\, 2025 Gamerosity -
DESCRIPTION:Program Title: Gamerosity-\nSpeaker: Manny Munoz\nProgram Introducer: Damien Rennie\nSergeants: Kurt Hildebrand
URL:https://medfordrogue.org/event/april-9-2025-club-meeting/
CATEGORIES:Club Meeting
END:VEVENT
BEGIN:VEVENT
DTSTART;TZID=America/Los_Angeles:20250416T121500
DTEND;TZID=America/Los_Angeles:20250416T121500
DTSTAMP:20260421T090603
CREATED:20250109T194324Z
LAST-MODIFIED:20250109T194324Z
UID:57281-1744805700-1744805700@medfordrogue.org
SUMMARY:April 16\, 20205 NO CLUB MEETING
DESCRIPTION:
URL:https://medfordrogue.org/event/april-16-20205-no-club-meeting/
CATEGORIES:Club Meeting
END:VEVENT
BEGIN:VEVENT
DTSTART;TZID=America/Los_Angeles:20250423T121000
DTEND;TZID=America/Los_Angeles:20250423T131000
DTSTAMP:20260421T090603
CREATED:20250217T181630Z
LAST-MODIFIED:20250417T181458Z
UID:57399-1745410200-1745413800@medfordrogue.org
SUMMARY:April 23 2025 Asante Regional Medical Center
DESCRIPTION:Program Title: Asante Rogue Regional Medical Center\nSpeaker: Asante Senior Vice President and Chief Philanthropy Officer Andrea Reeder\nProgram Introducer: Jeff Cool\nSergeants: Gene Taylor
URL:https://medfordrogue.org/event/april-23rd-club-meeting/
CATEGORIES:Club Meeting
END:VEVENT
BEGIN:VEVENT
DTSTART;TZID=America/Los_Angeles:20250430T121000
DTEND;TZID=America/Los_Angeles:20250430T131000
DTSTAMP:20260421T090603
CREATED:20250217T181829Z
LAST-MODIFIED:20250303T185911Z
UID:57403-1746015000-1746018600@medfordrogue.org
SUMMARY:April 30 2025 City of Medford
DESCRIPTION:Program Title: State of the City\nSpeaker: Robert Field\, City Manager\nProgram Introducer: Bob Wise\nSergeants: Gina Clyburn
URL:https://medfordrogue.org/event/april-30-2025-club-meeting/
CATEGORIES:Club Meeting
END:VEVENT
END:VCALENDAR