BEGIN:VCALENDAR
VERSION:2.0
PRODID:-//Medford Rogue Rotary - ECPv6.15.20//NONSGML v1.0//EN
CALSCALE:GREGORIAN
METHOD:PUBLISH
X-WR-CALNAME:Medford Rogue Rotary
X-ORIGINAL-URL:https://medfordrogue.org
X-WR-CALDESC:Events for Medford Rogue Rotary
REFRESH-INTERVAL;VALUE=DURATION:PT1H
X-Robots-Tag:noindex
X-PUBLISHED-TTL:PT1H
BEGIN:VTIMEZONE
TZID:America/Los_Angeles
BEGIN:DAYLIGHT
TZOFFSETFROM:-0800
TZOFFSETTO:-0700
TZNAME:PDT
DTSTART:20240310T100000
END:DAYLIGHT
BEGIN:STANDARD
TZOFFSETFROM:-0700
TZOFFSETTO:-0800
TZNAME:PST
DTSTART:20241103T090000
END:STANDARD
BEGIN:DAYLIGHT
TZOFFSETFROM:-0800
TZOFFSETTO:-0700
TZNAME:PDT
DTSTART:20250309T100000
END:DAYLIGHT
BEGIN:STANDARD
TZOFFSETFROM:-0700
TZOFFSETTO:-0800
TZNAME:PST
DTSTART:20251102T090000
END:STANDARD
BEGIN:DAYLIGHT
TZOFFSETFROM:-0800
TZOFFSETTO:-0700
TZNAME:PDT
DTSTART:20260308T100000
END:DAYLIGHT
BEGIN:STANDARD
TZOFFSETFROM:-0700
TZOFFSETTO:-0800
TZNAME:PST
DTSTART:20261101T090000
END:STANDARD
END:VTIMEZONE
BEGIN:VEVENT
DTSTART;TZID=America/Los_Angeles:20250702T121000
DTEND;TZID=America/Los_Angeles:20250702T131000
DTSTAMP:20260421T042904
CREATED:20250617T155329Z
LAST-MODIFIED:20250617T171947Z
UID:57842-1751458200-1751461800@medfordrogue.org
SUMMARY:July 2 2025 Meeting  Passing of the Gavel
DESCRIPTION:Program Title: Passing of the Gavel\nSpeaker: Rachel Torres and George Prokop\nProgram Introducer: TBD\nSergeants: TBD
URL:https://medfordrogue.org/event/july-2-meeting/
CATEGORIES:Club Meeting
END:VEVENT
BEGIN:VEVENT
DTSTART;TZID=America/Los_Angeles:20250709T121000
DTEND;TZID=America/Los_Angeles:20250709T131000
DTSTAMP:20260421T042904
CREATED:20250502T224650Z
LAST-MODIFIED:20250630T155109Z
UID:57648-1752063000-1752066600@medfordrogue.org
SUMMARY:July 9 2025   A Rad Story:  My Evolution in Nuclear Engineering
DESCRIPTION:Program Title: A Rad Story:  My Evolution in Nuclear Engineering\nSpeaker: Matthew Hageman\, Engineer II\, Kairos Power\nProgram Introducer: Eric Hodnett\nSergeants: Damien Rennie
URL:https://medfordrogue.org/event/july-9-2025/
CATEGORIES:Club Meeting
END:VEVENT
BEGIN:VEVENT
DTSTART;TZID=America/Los_Angeles:20250716T121000
DTEND;TZID=America/Los_Angeles:20250716T131000
DTSTAMP:20260421T042904
CREATED:20250502T224746Z
LAST-MODIFIED:20250502T224746Z
UID:57650-1752667800-1752671400@medfordrogue.org
SUMMARY:July 16 2025 NO MEETING
DESCRIPTION:
URL:https://medfordrogue.org/event/july-16-2025-no-meeting/
CATEGORIES:Club Meeting
END:VEVENT
BEGIN:VEVENT
DTSTART;TZID=America/Los_Angeles:20250723T121000
DTEND;TZID=America/Los_Angeles:20250723T131000
DTSTAMP:20260421T042904
CREATED:20250502T224848Z
LAST-MODIFIED:20250708T150149Z
UID:57652-1753272600-1753276200@medfordrogue.org
SUMMARY:July 23 2025 - Criminal Justice System - Update
DESCRIPTION:Program Title:\n\n\n\n\n\nCriminal Justice System Update\n\n\n\n\n\n\n\nSpeaker: Sheriff Nathan Sickler\nProgram Introducer: TBD\nSergeants: Claudette Moore
URL:https://medfordrogue.org/event/july-23-2025/
CATEGORIES:Club Meeting
END:VEVENT
BEGIN:VEVENT
DTSTART;TZID=America/Los_Angeles:20250730T121000
DTEND;TZID=America/Los_Angeles:20250730T131000
DTSTAMP:20260421T042904
CREATED:20250730T160631Z
LAST-MODIFIED:20250730T160631Z
UID:58114-1753877400-1753881000@medfordrogue.org
SUMMARY:July 30 2025 RYLA Students' Report
DESCRIPTION:Program Title: RYLA Students’ Reports\nSpeaker:\n\n\n\n\n\n\n\n\nDawson Ghavam\, Natalie Hung\, Rtystal Rangel Villa\n\n\n\n\n\n\n\nProgram Introducer: Kellie Hill\nSergeants: Kellie Hill
URL:https://medfordrogue.org/event/july-30-2025-ryla-students-report/
CATEGORIES:Club Meeting
END:VEVENT
END:VCALENDAR