BEGIN:VCALENDAR
VERSION:2.0
PRODID:-//Medford Rogue Rotary - ECPv6.15.20//NONSGML v1.0//EN
CALSCALE:GREGORIAN
METHOD:PUBLISH
X-ORIGINAL-URL:https://medfordrogue.org
X-WR-CALDESC:Events for Medford Rogue Rotary
REFRESH-INTERVAL;VALUE=DURATION:PT1H
X-Robots-Tag:noindex
X-PUBLISHED-TTL:PT1H
BEGIN:VTIMEZONE
TZID:America/Los_Angeles
BEGIN:DAYLIGHT
TZOFFSETFROM:-0800
TZOFFSETTO:-0700
TZNAME:PDT
DTSTART:20220313T100000
END:DAYLIGHT
BEGIN:STANDARD
TZOFFSETFROM:-0700
TZOFFSETTO:-0800
TZNAME:PST
DTSTART:20221106T090000
END:STANDARD
BEGIN:DAYLIGHT
TZOFFSETFROM:-0800
TZOFFSETTO:-0700
TZNAME:PDT
DTSTART:20230312T100000
END:DAYLIGHT
BEGIN:STANDARD
TZOFFSETFROM:-0700
TZOFFSETTO:-0800
TZNAME:PST
DTSTART:20231105T090000
END:STANDARD
BEGIN:DAYLIGHT
TZOFFSETFROM:-0800
TZOFFSETTO:-0700
TZNAME:PDT
DTSTART:20240310T100000
END:DAYLIGHT
BEGIN:STANDARD
TZOFFSETFROM:-0700
TZOFFSETTO:-0800
TZNAME:PST
DTSTART:20241103T090000
END:STANDARD
BEGIN:DAYLIGHT
TZOFFSETFROM:-0800
TZOFFSETTO:-0700
TZNAME:PDT
DTSTART:20250309T100000
END:DAYLIGHT
BEGIN:STANDARD
TZOFFSETFROM:-0700
TZOFFSETTO:-0800
TZNAME:PST
DTSTART:20251102T090000
END:STANDARD
END:VTIMEZONE
BEGIN:VEVENT
DTSTART;TZID=America/Los_Angeles:20231206T121000
DTEND;TZID=America/Los_Angeles:20231206T121000
DTSTAMP:20260423T003952
CREATED:20231206T234529Z
LAST-MODIFIED:20231127T192619Z
UID:2062-1701864600-1701864600@medfordrogue.org
SUMMARY:Vision Your Future Club
DESCRIPTION:Program Title: Medford Rogue Rotary – Club review\nSpeaker: Kellie Hill\nProgram Introducer: Kellie HIll\nGreeter: Fawnda and Kevin Shahalami\nAttendance: Ellen Naumes\nSergeants: Claudette Moore
URL:https://medfordrogue.org/event/club-meeting-december-6/
CATEGORIES:Club Meeting
END:VEVENT
BEGIN:VEVENT
DTSTART;TZID=America/Los_Angeles:20231220T121000
DTEND;TZID=America/Los_Angeles:20231220T131000
DTSTAMP:20260423T003952
CREATED:20231115T153214Z
LAST-MODIFIED:20231128T053420Z
UID:2172-1703074200-1703077800@medfordrogue.org
SUMMARY:Club Meeting December 20th NO MEETING
DESCRIPTION:Just a reminder we do not have a formal club meeting today.  Please disregard the meeting info/link it is a pre-set text. \n 
URL:https://medfordrogue.org/event/club-meeting-december-20th-no-meeting/
CATEGORIES:Club Meeting
END:VEVENT
BEGIN:VEVENT
DTSTART;TZID=America/Los_Angeles:20240103T080000
DTEND;TZID=America/Los_Angeles:20240103T170000
DTSTAMP:20260423T003952
CREATED:20231107T001348Z
LAST-MODIFIED:20231122T191533Z
UID:2112-1704268800-1704301200@medfordrogue.org
SUMMARY:Club Meeting - January 3rd No Meeting
DESCRIPTION:Just a reminder we do not have a formal club meeting today.  Please disregard the meeting info/link it is a pre-set text.
URL:https://medfordrogue.org/event/club-meeting-january-3rd-no-meeting/
CATEGORIES:Club Meeting
END:VEVENT
BEGIN:VEVENT
DTSTART;TZID=America/Los_Angeles:20240110T121000
DTEND;TZID=America/Los_Angeles:20240110T131000
DTSTAMP:20260423T003952
CREATED:20231107T001442Z
LAST-MODIFIED:20240102T230824Z
UID:2114-1704888600-1704892200@medfordrogue.org
SUMMARY:Club Meeting  - Fellowship Speed Dating
DESCRIPTION:Program Title: Fellowship Speed Dating\nSpeaker: Claudette Moore\nProgram Introducer: TBD\nGreeter: Kevin and Fawnda Shahalimi\nAttendance: Roger Hasenpflug \nSergeants: Claudette Moore
URL:https://medfordrogue.org/event/club-meeting-january-10/
CATEGORIES:Club Meeting
END:VEVENT
BEGIN:VEVENT
DTSTART;TZID=America/Los_Angeles:20240117T120000
DTEND;TZID=America/Los_Angeles:20240117T130000
DTSTAMP:20260423T003952
CREATED:20231117T003342Z
LAST-MODIFIED:20240111T185411Z
UID:2179-1705492800-1705496400@medfordrogue.org
SUMMARY:Club Meeting - January 17th tour Rogue X
DESCRIPTION:In place of our “off” meeting day\, join us instead for a special opportunity to tour the new community complex\, \n901 Rossanley Drive\, Medford from 12-1p.   \nTour will be led by Rich Rosenthal\, and our own Brian Sjothun will be there as well! No RSVP needed. \n 
URL:https://medfordrogue.org/event/club-meeting-january-17-no-meeting/
CATEGORIES:Club Meeting
END:VEVENT
BEGIN:VEVENT
DTSTART;TZID=America/Los_Angeles:20240124T121000
DTEND;TZID=America/Los_Angeles:20240124T131000
DTSTAMP:20260423T003952
CREATED:20231107T001547Z
LAST-MODIFIED:20240112T194127Z
UID:2116-1706098200-1706101800@medfordrogue.org
SUMMARY:Club Meeting - Congressman Cliff Bentz
DESCRIPTION:Program Title: Update from DC\nSpeaker: Congressman Bentz\nProgram Introducer: TBD or Joey Minear\nGreeter: George Prokop and Cooper Whitman\nAttendance: Roger Hasenpflug \nSergeants: Gene Taylor
URL:https://medfordrogue.org/event/club-meeting-january-24/
CATEGORIES:Club Meeting
END:VEVENT
BEGIN:VEVENT
DTSTART;TZID=America/Los_Angeles:20240131T121000
DTEND;TZID=America/Los_Angeles:20240131T130000
DTSTAMP:20260423T003952
CREATED:20231107T001710Z
LAST-MODIFIED:20240129T025310Z
UID:2118-1706703000-1706706000@medfordrogue.org
SUMMARY:Club Meeting-Global Warming
DESCRIPTION:Program Title: Global Warming\nSpeaker: Maud Powell\nProgram Introducer: Doug Schmor\nGreeter: George Prokop and Angela Durant\nAttendance: Roger Hasenpflug \nSergeants: David Wilkerson
URL:https://medfordrogue.org/event/club-meeting-january-31/
CATEGORIES:Club Meeting
END:VEVENT
BEGIN:VEVENT
DTSTART;TZID=America/Los_Angeles:20240207T121000
DTEND;TZID=America/Los_Angeles:20240207T131000
DTSTAMP:20260423T003952
CREATED:20231107T001815Z
LAST-MODIFIED:20240206T012550Z
UID:2120-1707307800-1707311400@medfordrogue.org
SUMMARY:Club Meeting - Early Literacy in Jackson County and the Dolly Parton Imagination Library
DESCRIPTION:Program Title:  Early Literacy in Jackson County and the Dolly Parton Imagination Library\nSpeaker:  Kari May\, Director of Jackson County Library Services \nProgram Introducer: George Prokop\nGreeter: Emma Nelson and Rachael Torres\nAttendance: Brent Black\nSergeants: Baylee LaVoie
URL:https://medfordrogue.org/event/club-meeting-february-7/
CATEGORIES:Club Meeting
END:VEVENT
BEGIN:VEVENT
DTSTART;TZID=America/Los_Angeles:20240214T121000
DTEND;TZID=America/Los_Angeles:20240214T131000
DTSTAMP:20260423T003952
CREATED:20231107T001900Z
LAST-MODIFIED:20240213T004658Z
UID:2122-1707912600-1707916200@medfordrogue.org
SUMMARY:Club Meeting - SOU
DESCRIPTION:Program Title  SOU’s Path Forward\, Adaption\, Collaboration and Creative Solutions\nSpeaker: President Rick Bailey\nProgram Introducer: Lyn Hennion\nGreeter: Steve Miller and Ryan Robertson\nAttendance: Brent Black \nSergeants: Ian Foster
URL:https://medfordrogue.org/event/club-meeting-february-14/
CATEGORIES:Club Meeting
END:VEVENT
BEGIN:VEVENT
DTSTART;TZID=America/Los_Angeles:20240221T121000
DTEND;TZID=America/Los_Angeles:20240221T130000
DTSTAMP:20260423T003952
CREATED:20231117T003941Z
LAST-MODIFIED:20240112T194158Z
UID:2188-1708517400-1708520400@medfordrogue.org
SUMMARY:Club Meeting- February 21 NO MEETING
DESCRIPTION:Just a reminder we do not have a formal club meeting today.  Please disregard the meeting info/link it is a pre-set text.
URL:https://medfordrogue.org/event/club-meeting-february-21-no-meeting/
CATEGORIES:Club Meeting
END:VEVENT
BEGIN:VEVENT
DTSTART;TZID=America/Los_Angeles:20240228T121000
DTEND;TZID=America/Los_Angeles:20240228T131000
DTSTAMP:20260423T003952
CREATED:20231107T001948Z
LAST-MODIFIED:20240213T004756Z
UID:2124-1709122200-1709125800@medfordrogue.org
SUMMARY:Club Meeting- Human Trafficking - Trends/ Local Impact
DESCRIPTION:Program Title: Human Trafficking – Trends/ Local Impact\nSpeaker: Detective Sergeant\, Ben Lytle\, Medford Police\nProgram Introducer: \nGreeter: TBD\nAttendance: Brent Black \nSergeants: Kevin Shahalami
URL:https://medfordrogue.org/event/club-meeting-february-28/
CATEGORIES:Club Meeting
END:VEVENT
BEGIN:VEVENT
DTSTART;TZID=America/Los_Angeles:20240306T121000
DTEND;TZID=America/Los_Angeles:20240306T131000
DTSTAMP:20260423T003952
CREATED:20240108T180409Z
LAST-MODIFIED:20240213T222034Z
UID:2299-1709727000-1709730600@medfordrogue.org
SUMMARY:Club Meeting-The State of the Criminal Legal System in our Valley
DESCRIPTION:Program Title: The State of the Criminal Legal System in our Valley\nSpeaker: Beth Heckert\nProgram Introducer: Rachel Torres\nGreeter: TBD\nAttendance: Beth Zerkel \nSergeants: Gina Clyburn
URL:https://medfordrogue.org/event/club-meeting-march-6th/
CATEGORIES:Club Meeting
END:VEVENT
BEGIN:VEVENT
DTSTART;TZID=America/Los_Angeles:20240313T121000
DTEND;TZID=America/Los_Angeles:20240313T131000
DTSTAMP:20260423T003952
CREATED:20240108T180542Z
LAST-MODIFIED:20240311T023200Z
UID:2302-1710331800-1710335400@medfordrogue.org
SUMMARY:Club Meeting- March 13  Climate Change and Agriculture
DESCRIPTION:Program Title: Climate Change and Agriculture\nSpeaker: Maud Powell\nProgram Introducer: Doug Schmor\nGreeter: TBD\nAttendance: Roger Hassenpflug\nSergeants: Baylee LaVoie
URL:https://medfordrogue.org/event/club-meeting-march-13/
CATEGORIES:Club Meeting
END:VEVENT
BEGIN:VEVENT
DTSTART;TZID=America/Los_Angeles:20240320T121000
DTEND;TZID=America/Los_Angeles:20240320T131000
DTSTAMP:20260423T003952
CREATED:20240108T180744Z
LAST-MODIFIED:20240108T180744Z
UID:2304-1710936600-1710940200@medfordrogue.org
SUMMARY:Club Meeting- March 20 NO MEETING
DESCRIPTION: 
URL:https://medfordrogue.org/event/club-meeting-march-20-no-meeting/
CATEGORIES:Club Meeting
END:VEVENT
BEGIN:VEVENT
DTSTART;TZID=America/Los_Angeles:20240327T121000
DTEND;TZID=America/Los_Angeles:20240327T131000
DTSTAMP:20260423T003952
CREATED:20240108T180842Z
LAST-MODIFIED:20240325T175854Z
UID:2306-1711541400-1711545000@medfordrogue.org
SUMMARY:Club Meeting - Building Bridges
DESCRIPTION:Program Title: Uniting for Action on the Economy in S. Oregon\nSpeaker: Marla Estes\nProgram Introducer: Jeff Golden\nGreeter: Danette Moss and Kurt Hildebrand\nAttendance: Nancy Walden\nSergeants: Claudette Moore
URL:https://medfordrogue.org/event/club-meeting-march-27th/
CATEGORIES:Club Meeting
END:VEVENT
BEGIN:VEVENT
DTSTART;TZID=America/Los_Angeles:20240403T121000
DTEND;TZID=America/Los_Angeles:20240403T131000
DTSTAMP:20260423T003952
CREATED:20240213T005546Z
LAST-MODIFIED:20240401T143540Z
UID:2465-1712146200-1712149800@medfordrogue.org
SUMMARY:Club Meeting-April 3 Braver Angels\, Countering polarization and restoring civil Dialogue
DESCRIPTION:Program Title: Braver Angels\, Countering polarization and restoring civil Dialogue\nSpeaker: Bruce Borgerson\nProgram Introducer: Claudette\nGreeter: Amber Myre & Kari May\nAttendance: Ellen Naumes\nSergeants: Gene Taylor
URL:https://medfordrogue.org/event/club-meeting-april-3-delete-meeting-date-and-add-meeting-title-here/
CATEGORIES:Club Meeting
END:VEVENT
BEGIN:VEVENT
DTSTART;TZID=America/Los_Angeles:20240410T121000
DTEND;TZID=America/Los_Angeles:20240410T131000
DTSTAMP:20260423T003952
CREATED:20240213T005624Z
LAST-MODIFIED:20240401T143638Z
UID:2467-1712751000-1712754600@medfordrogue.org
SUMMARY:Club Meeting-April 10 - 4 Way Student Speech Test
DESCRIPTION:Program Title: 4 Way Student Speech test\nSpeaker: Kellie Hill\nProgram Introducer: Carol Neil\nGreeter: Amber Myre and Angela Durant\nAttendance: Ellen Naumes\nSergeants: Judy Lininger
URL:https://medfordrogue.org/event/club-meeting-april-3-delete-meeting-date-and-add-meeting-title-here-2/
CATEGORIES:Club Meeting
END:VEVENT
BEGIN:VEVENT
DTSTART;VALUE=DATE:20240417
DTEND;VALUE=DATE:20240418
DTSTAMP:20260423T003952
CREATED:20240213T005927Z
LAST-MODIFIED:20240409T163348Z
UID:2471-1713312000-1713398399@medfordrogue.org
SUMMARY:Club Meeting-April 17th NO MEETING
DESCRIPTION:
URL:https://medfordrogue.org/event/club-meeting-april-17th-no-meeting/
CATEGORIES:Club Meeting
END:VEVENT
BEGIN:VEVENT
DTSTART;TZID=America/Los_Angeles:20240424T121000
DTEND;TZID=America/Los_Angeles:20240424T131000
DTSTAMP:20260423T003952
CREATED:20240213T005714Z
LAST-MODIFIED:20240401T143732Z
UID:2469-1713960600-1713964200@medfordrogue.org
SUMMARY:Club Meeting-April 24  - Energy and the Economy
DESCRIPTION:Program Title: Energy and the Economy\nSpeaker: Da Kirschner\, Exec Director NWGA\nProgram Introducer: Steve Vincent\nGreeter: Amber Myre & Laura Hanson\nAttendance: Ellen Naumes\nSergeants: Ian Foster
URL:https://medfordrogue.org/event/club-meeting-april-24-delete-meeting-date-and-add-meeting-title-here/
CATEGORIES:Club Meeting
END:VEVENT
BEGIN:VEVENT
DTSTART;TZID=America/Los_Angeles:20240501T121000
DTEND;TZID=America/Los_Angeles:20240501T121000
DTSTAMP:20260423T003952
CREATED:20240308T180522Z
LAST-MODIFIED:20240430T050730Z
UID:2529-1714565400-1714565400@medfordrogue.org
SUMMARY:Club Meeting- May 1  Video Surveillance
DESCRIPTION:Program Title:  Video Surveillance – What it Means to you\nSpeaker: David Stipp and Randy Sparacino\nProgram Introducer: Bill Thorndyke\nGreeter: Gary Newland and George Prokop\nAttendance: Beth Reger \nSergeants: Kevin Shahalami
URL:https://medfordrogue.org/event/club-meeting-may-1-delete-meeting-date-and-add-meeting-title-here/
CATEGORIES:Club Meeting
END:VEVENT
BEGIN:VEVENT
DTSTART;TZID=America/Los_Angeles:20240508T121000
DTEND;TZID=America/Los_Angeles:20240508T131000
DTSTAMP:20260423T003952
CREATED:20240308T180617Z
LAST-MODIFIED:20240430T050843Z
UID:2531-1715170200-1715173800@medfordrogue.org
SUMMARY:Club Meeting-  May 8 - Aki's Farewell
DESCRIPTION:Program Title:   Aki’s year in review\nSpeaker:  Exchange student Aki\nProgram Introducer: Sally Buck\nGreeter: Doug Schmor and Eric Hodnett\nAttendance: Beth Reger \nSergeants: Gina Clyburn
URL:https://medfordrogue.org/event/club-meeting-may-8-delete-meeting-date-and-add-meeting-title-here/
CATEGORIES:Club Meeting
END:VEVENT
BEGIN:VEVENT
DTSTART;TZID=America/Los_Angeles:20240522T121000
DTEND;TZID=America/Los_Angeles:20240522T131000
DTSTAMP:20260423T003952
CREATED:20240308T180724Z
LAST-MODIFIED:20240513T214435Z
UID:2533-1716379800-1716383400@medfordrogue.org
SUMMARY:Club Meeting- May 22 KOBI TV - 70 Years of Broadcasting
DESCRIPTION:Program Title: 70 Years of Broadcasting  and Going Strong – KOBI TV\nSpeaker:  Patsy Smullin\, Bob Wise\, Kingsley Kelley\nProgram Introducer: Doug Schmor\nGreeter: Bob Hunter and Carol Fischer\nAttendance: Beth Reger \nSergeants: Claudette Moore
URL:https://medfordrogue.org/event/club-meeting-may-22-delete-meeting-date-and-add-meeting-title-here/
CATEGORIES:Club Meeting
END:VEVENT
BEGIN:VEVENT
DTSTART;TZID=America/Los_Angeles:20240529T121000
DTEND;TZID=America/Los_Angeles:20240529T131000
DTSTAMP:20260423T003952
CREATED:20240308T180846Z
LAST-MODIFIED:20240507T215414Z
UID:2535-1716984600-1716988200@medfordrogue.org
SUMMARY:Club Meeting- May 29  New Public Safety Update
DESCRIPTION:Program Title:Public Safety Building Update\nSpeaker: Sheriff Nate Sickler – Jackson County\nProgram Introducer: Claudette Moore\nGreeter: Greg Jones\nAttendance: Beth Reger and Roger Hassenpflung\nSergeants: Gene Taylor
URL:https://medfordrogue.org/event/club-meeting-may-29-delete-meeting-date-and-add-meeting-title-here/
CATEGORIES:Club Meeting
END:VEVENT
BEGIN:VEVENT
DTSTART;TZID=America/Los_Angeles:20240605T121000
DTEND;TZID=America/Los_Angeles:20240605T131000
DTSTAMP:20260423T003952
CREATED:20240405T170339Z
LAST-MODIFIED:20240521T233253Z
UID:2763-1717589400-1717593000@medfordrogue.org
SUMMARY:Club Meeting-June 5 Polio Plus
DESCRIPTION:Program Title   What’s Happening with  Polio \nSpeaker: Jane Falls\, Dist Director 5110\, Ass’t Governor\nProgram Introducer:Angelo Durant\nGreeter: TBD\nAttendance: Nancy Walden \nSergeants: Kevin Shahalami
URL:https://medfordrogue.org/event/club-meeting-june-5th-add-title/
CATEGORIES:Club Meeting
END:VEVENT
BEGIN:VEVENT
DTSTART;TZID=America/Los_Angeles:20240612T121000
DTEND;TZID=America/Los_Angeles:20240612T131000
DTSTAMP:20260423T003952
CREATED:20240405T170452Z
LAST-MODIFIED:20240606T143758Z
UID:2765-1718194200-1718197800@medfordrogue.org
SUMMARY:Club Meeting-June 12th Annual Foundation  Meeting
DESCRIPTION:Program Title: Annual Foundation Meeting.\nSpeaker: Jerri Reno\nProgram Introducer: TBD\nGreeter: Bug Bergstrom and Cam McCandles\nAttendance: Nancy Walden \nSergeants: Judy Lininger
URL:https://medfordrogue.org/event/club-meeting-june-12th-add-title/
CATEGORIES:Club Meeting
END:VEVENT
BEGIN:VEVENT
DTSTART;TZID=America/Los_Angeles:20240626T121000
DTEND;TZID=America/Los_Angeles:20240626T131000
DTSTAMP:20260423T003952
CREATED:20240405T170635Z
LAST-MODIFIED:20240613T134231Z
UID:2769-1719403800-1719407400@medfordrogue.org
SUMMARY:Club Meeting-June 26th  Passing of the Gavel
DESCRIPTION:Program Title: Passing of the Gavel\nSpeaker: Kellie and Rachel\nProgram Introducer:\nGreeter: Baylee Lavoie and Ben Kalina\nAttendance: TBD\nSergeants: Ian Foster
URL:https://medfordrogue.org/event/club-meeting-june-26th-add-title/
CATEGORIES:Club Meeting
END:VEVENT
BEGIN:VEVENT
DTSTART;TZID=America/Los_Angeles:20240703T121500
DTEND;TZID=America/Los_Angeles:20240703T131500
DTSTAMP:20260423T003952
CREATED:20240514T222533Z
LAST-MODIFIED:20240619T225747Z
UID:2912-1720008900-1720012500@medfordrogue.org
SUMMARY:Club Meeting July 3rd No Meeting
DESCRIPTION: 
URL:https://medfordrogue.org/event/club-meeting-july-3rd/
CATEGORIES:Club Meeting
END:VEVENT
BEGIN:VEVENT
DTSTART;TZID=America/Los_Angeles:20240710T121000
DTEND;TZID=America/Los_Angeles:20240710T131000
DTSTAMP:20260423T003952
CREATED:20240422T182856Z
LAST-MODIFIED:20240618T203709Z
UID:2816-1720613400-1720617000@medfordrogue.org
SUMMARY:Club Meeting - July 10th - World Community Service
DESCRIPTION:Program Title: We are the world. We make World Community Service\nSpeaker: Linda Brown and George Prokop\nProgram Introducer: NA\nGreeter: TBD\nAttendance: TBD\nSergeants: David Wilkersen
URL:https://medfordrogue.org/event/club-meeting-july-10th/
CATEGORIES:Club Meeting
END:VEVENT
BEGIN:VEVENT
DTSTART;TZID=America/Los_Angeles:20240717T121000
DTEND;TZID=America/Los_Angeles:20240717T131000
DTSTAMP:20260423T003952
CREATED:20240615T135158Z
LAST-MODIFIED:20240703T054352Z
UID:3055-1721218200-1721221800@medfordrogue.org
SUMMARY:Club Meeting July 17th NO MEETING
DESCRIPTION:
URL:https://medfordrogue.org/event/club-meeting-july-17th-no-meeting/
CATEGORIES:Club Meeting
END:VEVENT
BEGIN:VEVENT
DTSTART;TZID=America/Los_Angeles:20240724T121000
DTEND;TZID=America/Los_Angeles:20240724T131000
DTSTAMP:20260423T003952
CREATED:20240422T182958Z
LAST-MODIFIED:20240722T164712Z
UID:2818-1721823000-1721826600@medfordrogue.org
SUMMARY:Club Meeting - July 24 -- RYLA
DESCRIPTION:Program Title: What happened at RYLA\nSpeaker: Piper Ravassipour and Dawson Murphy\nProgram Introducer: Kellie Hill\nGreeter: Roger Hasenpflug \nAttendance: TBD\nSergeants: Gina Clyburn
URL:https://medfordrogue.org/event/club-meeting-july-24/
LOCATION:Rogue Valley Country Club\, 2660 Hillcrest Rd\, Medford\, OR\, 97504\, United States
CATEGORIES:Club Meeting
END:VEVENT
END:VCALENDAR