BEGIN:VCALENDAR
VERSION:2.0
PRODID:-//Medford Rogue Rotary - ECPv6.15.20//NONSGML v1.0//EN
CALSCALE:GREGORIAN
METHOD:PUBLISH
X-ORIGINAL-URL:https://medfordrogue.org
X-WR-CALDESC:Events for Medford Rogue Rotary
REFRESH-INTERVAL;VALUE=DURATION:PT1H
X-Robots-Tag:noindex
X-PUBLISHED-TTL:PT1H
BEGIN:VTIMEZONE
TZID:America/Los_Angeles
BEGIN:DAYLIGHT
TZOFFSETFROM:-0800
TZOFFSETTO:-0700
TZNAME:PDT
DTSTART:20230312T100000
END:DAYLIGHT
BEGIN:STANDARD
TZOFFSETFROM:-0700
TZOFFSETTO:-0800
TZNAME:PST
DTSTART:20231105T090000
END:STANDARD
BEGIN:DAYLIGHT
TZOFFSETFROM:-0800
TZOFFSETTO:-0700
TZNAME:PDT
DTSTART:20240310T100000
END:DAYLIGHT
BEGIN:STANDARD
TZOFFSETFROM:-0700
TZOFFSETTO:-0800
TZNAME:PST
DTSTART:20241103T090000
END:STANDARD
BEGIN:DAYLIGHT
TZOFFSETFROM:-0800
TZOFFSETTO:-0700
TZNAME:PDT
DTSTART:20250309T100000
END:DAYLIGHT
BEGIN:STANDARD
TZOFFSETFROM:-0700
TZOFFSETTO:-0800
TZNAME:PST
DTSTART:20251102T090000
END:STANDARD
BEGIN:DAYLIGHT
TZOFFSETFROM:-0800
TZOFFSETTO:-0700
TZNAME:PDT
DTSTART:20260308T100000
END:DAYLIGHT
BEGIN:STANDARD
TZOFFSETFROM:-0700
TZOFFSETTO:-0800
TZNAME:PST
DTSTART:20261101T090000
END:STANDARD
END:VTIMEZONE
BEGIN:VEVENT
DTSTART;TZID=America/Los_Angeles:20240724T121000
DTEND;TZID=America/Los_Angeles:20240724T131000
DTSTAMP:20260422T153747
CREATED:20240422T182958Z
LAST-MODIFIED:20240722T164712Z
UID:2818-1721823000-1721826600@medfordrogue.org
SUMMARY:Club Meeting - July 24 -- RYLA
DESCRIPTION:Program Title: What happened at RYLA\nSpeaker: Piper Ravassipour and Dawson Murphy\nProgram Introducer: Kellie Hill\nGreeter: Roger Hasenpflug \nAttendance: TBD\nSergeants: Gina Clyburn
URL:https://medfordrogue.org/event/club-meeting-july-24/
LOCATION:Rogue Valley Country Club\, 2660 Hillcrest Rd\, Medford\, OR\, 97504\, United States
CATEGORIES:Club Meeting
END:VEVENT
BEGIN:VEVENT
DTSTART;TZID=America/Los_Angeles:20240731T121000
DTEND;TZID=America/Los_Angeles:20240731T131000
DTSTAMP:20260422T153747
CREATED:20240724T201325Z
LAST-MODIFIED:20240729T194125Z
UID:3472-1722427800-1722431400@medfordrogue.org
SUMMARY:Club Meeting July 31-Harry and David
DESCRIPTION:Program Title: Harry and David\nSpeaker: Matt Forman\nProgram Introducer: Kevin Shahalami\nGreeter:\nAttendance: Beth Zerkel\nSergeants: Gene Taylor
URL:https://medfordrogue.org/event/club-meeting-july-31-harry-and-david/
LOCATION:Rogue Valley Country Club\, 2660 Hillcrest Rd\, Medford\, OR\, 97504\, United States
CATEGORIES:Club Meeting
END:VEVENT
BEGIN:VEVENT
DTSTART;TZID=America/Los_Angeles:20240807T121000
DTEND;TZID=America/Los_Angeles:20240807T131000
DTSTAMP:20260422T153747
CREATED:20240514T222718Z
LAST-MODIFIED:20240806T230529Z
UID:2916-1723032600-1723036200@medfordrogue.org
SUMMARY:Club Meeting- August 7- Finding true long-term success and fullfillment in life.
DESCRIPTION:Program Title:  Finding true long-term success and fulfillment in life.\nSpeaker: Samuel “Ace” Ventura\, BIOMED Area Account Mgr\, American Red Cross\nProgram Introducer: Eric Adams\nGreeter: TBD\nAttendance:\nSergeants: Kellie Hill
URL:https://medfordrogue.org/event/club-meeting-august-7/
LOCATION:Rogue Valley Country Club\, 2660 Hillcrest Rd\, Medford\, OR\, 97504\, United States
CATEGORIES:Club Meeting
END:VEVENT
BEGIN:VEVENT
DTSTART;TZID=America/Los_Angeles:20240814T121000
DTEND;TZID=America/Los_Angeles:20240814T131000
DTSTAMP:20260422T153747
CREATED:20240514T223305Z
LAST-MODIFIED:20240806T230550Z
UID:2918-1723637400-1723641000@medfordrogue.org
SUMMARY:Club Meeting August 14 - Chelsea Hicks Foundation Awareness
DESCRIPTION:Program August 14 – Chelsea Hicks Foundation Awareness \n\n\n\n\n\n\nSpeaker:  Alison Hicks\, founder\nProgram Introducer: Fawnda Shahalami\nGreeter:\nAttendance:\nSergeants: Kurt Hildebrand
URL:https://medfordrogue.org/event/club-meeting-august-14th/
LOCATION:Rogue Valley Country Club\, 2660 Hillcrest Rd\, Medford\, OR\, 97504\, United States
CATEGORIES:Club Meeting
END:VEVENT
BEGIN:VEVENT
DTSTART;TZID=America/Los_Angeles:20240821T121000
DTEND;TZID=America/Los_Angeles:20240821T131000
DTSTAMP:20260422T153747
CREATED:20240617T221418Z
LAST-MODIFIED:20240820T075557Z
UID:3058-1724242200-1724245800@medfordrogue.org
SUMMARY:Club Meeting August 21 - No Meeting
DESCRIPTION:
URL:https://medfordrogue.org/event/club-meeting-august-21-no-meeting/
CATEGORIES:Club Meeting
END:VEVENT
BEGIN:VEVENT
DTSTART;TZID=America/Los_Angeles:20240828T121000
DTEND;TZID=America/Los_Angeles:20240828T131000
DTSTAMP:20260422T153747
CREATED:20240617T221908Z
LAST-MODIFIED:20240820T075708Z
UID:3063-1724847000-1724850600@medfordrogue.org
SUMMARY:Club Meeting August 28 - No Meeting
DESCRIPTION:
URL:https://medfordrogue.org/event/club-meeting-august-28th/
LOCATION:Rogue Valley Country Club\, 2660 Hillcrest Rd\, Medford\, OR\, 97504\, United States
CATEGORIES:Club Meeting
END:VEVENT
BEGIN:VEVENT
DTSTART;TZID=America/Los_Angeles:20240904T121000
DTEND;TZID=America/Los_Angeles:20240904T131000
DTSTAMP:20260422T153747
CREATED:20240617T222112Z
LAST-MODIFIED:20240827T151636Z
UID:3065-1725451800-1725455400@medfordrogue.org
SUMMARY:Club Meeting September 4 - Rogue Retreat Update
DESCRIPTION:Program Title: Rogue Retreat Update\nSpeaker: Sam Engel\, ED\nProgram Introducer: Brian Sjothun\nGreeter: Kellie Hill\, George Prokop\nAttendance: Beth Zerkel \nSergeants: Kevin Shahalami
URL:https://medfordrogue.org/event/club-meeting-september-4/
LOCATION:Rogue Valley Country Club\, 2660 Hillcrest Rd\, Medford\, OR\, 97504\, United States
CATEGORIES:Club Meeting
END:VEVENT
BEGIN:VEVENT
DTSTART;TZID=America/Los_Angeles:20240911T121000
DTEND;TZID=America/Los_Angeles:20240911T131000
DTSTAMP:20260422T153747
CREATED:20240617T222217Z
LAST-MODIFIED:20240903T015235Z
UID:3067-1726056600-1726060200@medfordrogue.org
SUMMARY:Club Meeting September 11 - RCC Community Update
DESCRIPTION:Program Title:  RCC Community Update     Status of RCC and how $’s from bond would be utilized to expand educational opportunities\nSpeaker: Dr. Randy Weber\nProgram Introducer: Roger Stokes\nGreeter:\nAttendance: Beth Zerkel \nSergeants: Judy Lininger
URL:https://medfordrogue.org/event/club-meeting-september-11/
LOCATION:Rogue Valley Country Club\, 2660 Hillcrest Rd\, Medford\, OR\, 97504\, United States
CATEGORIES:Club Meeting
END:VEVENT
BEGIN:VEVENT
DTSTART;TZID=America/Los_Angeles:20240918T121000
DTEND;TZID=America/Los_Angeles:20240918T131000
DTSTAMP:20260422T153747
CREATED:20240617T222302Z
LAST-MODIFIED:20240912T070151Z
UID:3069-1726661400-1726665000@medfordrogue.org
SUMMARY:Club Meeting September 18 - No Meeting
DESCRIPTION:
URL:https://medfordrogue.org/event/club-meeting-september-18-no-meeting/
CATEGORIES:Club Meeting
ATTACH;FMTTYPE=image/jpeg:https://medfordrogue.org/wp-content/uploads/2024/06/Rotary-No-meeting.jpg
END:VEVENT
BEGIN:VEVENT
DTSTART;TZID=America/Los_Angeles:20240925T121000
DTEND;TZID=America/Los_Angeles:20240925T131000
DTSTAMP:20260422T153747
CREATED:20240617T222422Z
LAST-MODIFIED:20240903T015204Z
UID:3072-1727266200-1727269800@medfordrogue.org
SUMMARY:Club Meeting September 25 - Reflections of a life's Mission
DESCRIPTION:Program Title: – Reflections of a life’s Mission\nSpeaker: Ron Worland\nProgram Introducer: Darren Ravissapour\nGreeter:\nAttendance: Beth Zerkel \nSergeants: Ian foster
URL:https://medfordrogue.org/event/club-meeting-september-25/
LOCATION:Rogue Valley Country Club\, 2660 Hillcrest Rd\, Medford\, OR\, 97504\, United States
CATEGORIES:Club Meeting
END:VEVENT
BEGIN:VEVENT
DTSTART;TZID=America/Los_Angeles:20241002T121000
DTEND;TZID=America/Los_Angeles:20241002T132000
DTSTAMP:20260422T153747
CREATED:20240717T222618Z
LAST-MODIFIED:20241007T054856Z
UID:3430-1727871000-1727875200@medfordrogue.org
SUMMARY:Club Meeting October 2 - Medford Airtanker Base
DESCRIPTION:Program Title: Medford Airtanker Base-Protecting the Rogue Valley by supporting Federal Airtankers\nSpeaker: Ben Crittenden\nProgram Introducer: Judy Lininger\nGreeter: TBD\nAttendance: Nancy Walden \nSergeants: Claudette Moore
URL:https://medfordrogue.org/event/club-meeting-october-2/
LOCATION:Rogue Valley Country Club\, 2660 Hillcrest Rd\, Medford\, OR\, 97504\, United States
CATEGORIES:Club Meeting
END:VEVENT
BEGIN:VEVENT
DTSTART;TZID=America/Los_Angeles:20241009T121000
DTEND;TZID=America/Los_Angeles:20241009T130000
DTSTAMP:20260422T153747
CREATED:20240717T222426Z
LAST-MODIFIED:20241007T054934Z
UID:3428-1728475800-1728478800@medfordrogue.org
SUMMARY:Club Meeting October 9 - Medford P D - SWAT
DESCRIPTION:Program Title: Introduction to Medford P D SWAT \n\nSpeaker: Lieutenant Don Lane  Medford PD\nProgram Introducer: Randy Sporacino\nGreeter: TBD\nAttendance: Nancy Walden \nSergeants: Gina Clyburn
URL:https://medfordrogue.org/event/club-meeting-october-9/
LOCATION:Rogue Valley Country Club\, 2660 Hillcrest Rd\, Medford\, OR\, 97504\, United States
CATEGORIES:Club Meeting
END:VEVENT
BEGIN:VEVENT
DTSTART;TZID=America/Los_Angeles:20241016T121000
DTEND;TZID=America/Los_Angeles:20241016T131000
DTSTAMP:20260422T153747
CREATED:20240717T222321Z
LAST-MODIFIED:20241007T055025Z
UID:3426-1729080600-1729084200@medfordrogue.org
SUMMARY:Club Meeting - October 16 No Meeting
DESCRIPTION:
URL:https://medfordrogue.org/event/club-meeting-october-16-no-meeting/
CATEGORIES:Club Meeting
ATTACH;FMTTYPE=image/jpeg:https://medfordrogue.org/wp-content/uploads/2024/06/Rotary-No-meeting.jpg
END:VEVENT
BEGIN:VEVENT
DTSTART;TZID=America/Los_Angeles:20241023T121000
DTEND;TZID=America/Los_Angeles:20241023T131000
DTSTAMP:20260422T153747
CREATED:20240717T222214Z
LAST-MODIFIED:20241021T154426Z
UID:3424-1729685400-1729689000@medfordrogue.org
SUMMARY:Club Meeting October 23- Oasis Center of the Rogue Valley
DESCRIPTION:Program Title: Oasis Center of the Rogue Valley\nSpeaker:  Dr. Keri Hecox\nProgram Introducer: Karen Proschet-Miller\nGreeter: TBD\nAttendance: Nancy Walden \nSergeants: Gene Taylor
URL:https://medfordrogue.org/event/club-meeting-october-23/
CATEGORIES:Club Meeting
ATTACH;FMTTYPE=image/jpeg:https://medfordrogue.org/wp-content/uploads/2024/10/Meeting-Image.jpg
END:VEVENT
BEGIN:VEVENT
DTSTART;TZID=America/Los_Angeles:20241030T121000
DTEND;TZID=America/Los_Angeles:20241030T131000
DTSTAMP:20260422T153747
CREATED:20241018T142630Z
LAST-MODIFIED:20241018T142721Z
UID:56942-1730290200-1730293800@medfordrogue.org
SUMMARY:Club Meeting-October 30  Asante Heinmann Cancer Center
DESCRIPTION:Program Title: Cancer Care at Asante\nSpeaker: Dr Rizvi\, Heimann Medical Chari of Oncology and Medical Director\, Brian Murphy\, Director\, Asante Cancer Services\nProgram Introducer: Claudette to Christian Gold Staff\, Sr Director\, Asante foundation\nGreeter: TBD\nAttendance:  Nancy Walden\nSergeants: Kellie Hill
URL:https://medfordrogue.org/event/club-meeting-october-30-asante-heinmann-cancer-center/
CATEGORIES:Club Meeting
END:VEVENT
BEGIN:VEVENT
DTSTART;TZID=America/Los_Angeles:20241106T121000
DTEND;TZID=America/Los_Angeles:20241106T131000
DTSTAMP:20260422T153747
CREATED:20241105T192706Z
LAST-MODIFIED:20241105T192825Z
UID:57098-1730895000-1730898600@medfordrogue.org
SUMMARY:Club Meeting-November 6 - SCORE
DESCRIPTION:Program Title: JFK and Score – Small Business in America\nScore is an operating partner of the SBA and provides mentoring to small business.\nSpeaker: Bruce Kelling\, retired CEO of Tiburon\, Inc.  Mento of the S O Branch of SCORE\nProgram Introducer: Sue Kupillas\nGreeter: Jessica King and Linda Brown/Natchi\nAttendance: Brian Watkins\nSergeants: Kurt Hildebrand
URL:https://medfordrogue.org/event/club-meeting-november-6/
CATEGORIES:Club Meeting
ATTACH;FMTTYPE=image/jpeg:https://medfordrogue.org/wp-content/uploads/2024/10/Meeting-Image.jpg
END:VEVENT
BEGIN:VEVENT
DTSTART;TZID=America/Los_Angeles:20241113T121000
DTEND;TZID=America/Los_Angeles:20241113T131000
DTSTAMP:20260422T153747
CREATED:20240911T132705Z
LAST-MODIFIED:20241104T162532Z
UID:56758-1731499800-1731503400@medfordrogue.org
SUMMARY:Club Meeting-November 13
DESCRIPTION:Program Title: Zooming in on the Rogue Valley Economy\nSpeaker: Marta Tarantsey\, Regional Development Officer with Business Oregon\nProgram Introducer: Kurt Hildebrand\nGreeter: TBD\nAttendance: Brian Watkins\nSergeants: Kevin Shahalami
URL:https://medfordrogue.org/event/club-meeting-november-13/
CATEGORIES:Club Meeting
ATTACH;FMTTYPE=image/jpeg:https://medfordrogue.org/wp-content/uploads/2024/10/Meeting-Image.jpg
END:VEVENT
BEGIN:VEVENT
DTSTART;TZID=America/Los_Angeles:20241120T121000
DTEND;TZID=America/Los_Angeles:20241120T131000
DTSTAMP:20260422T153747
CREATED:20240911T132837Z
LAST-MODIFIED:20241118T231624Z
UID:56760-1732104600-1732108200@medfordrogue.org
SUMMARY:November 20th - Speed Dating
DESCRIPTION:  \n \n\nProgram Title: Speed Dating\nSpeaker: Fellowship Committee\nProgram Introducer: President Rachel\nGreeter: TBD\nAttendance: Brian Watkins\nSergeants: Judy Lininger\n\n“Test Run” Meeting at 360 Building \n 
URL:https://medfordrogue.org/event/club-meeting-november-20th/
LOCATION:360 Building\, 360 East Jackson\, 360 East Jackson St\, Medford\, OR
CATEGORIES:Club Meeting
ATTACH;FMTTYPE=image/png:https://medfordrogue.org/wp-content/uploads/2024/09/Speed-Dating-Post-1.png
END:VEVENT
BEGIN:VEVENT
DTSTART;TZID=America/Los_Angeles:20241127T121000
DTEND;TZID=America/Los_Angeles:20241127T131500
DTSTAMP:20260422T153747
CREATED:20240911T133841Z
LAST-MODIFIED:20241122T195729Z
UID:56767-1732709400-1732713300@medfordrogue.org
SUMMARY:Club Meeting November 27th - No Meeting
DESCRIPTION:
URL:https://medfordrogue.org/event/club-meeting-november-27th-no-meeting/
CATEGORIES:Club Meeting
ATTACH;FMTTYPE=image/jpeg:https://medfordrogue.org/wp-content/uploads/2023/04/1682386577_No-meeting-July-22nd.jpg
END:VEVENT
BEGIN:VEVENT
DTSTART;TZID=America/Los_Angeles:20241204T121000
DTEND;TZID=America/Los_Angeles:20241204T131000
DTSTAMP:20260422T153747
CREATED:20240911T133728Z
LAST-MODIFIED:20241015T192534Z
UID:56765-1733314200-1733317800@medfordrogue.org
SUMMARY:Club Meeting December 4 - Southern Oregon Sports and Your Role
DESCRIPTION:Program Title: Southern Oregon Sports and Know your your role\nSpeaker: Darren Van Lehn\, Director of  sports Development\, Travel Medford\nProgram Introducer: Fawnda Shahalami\nAttendance: Ellen Naumes\nSergeants: Ian Foster
URL:https://medfordrogue.org/event/club-meeting-december-4/
CATEGORIES:Club Meeting
ATTACH;FMTTYPE=image/jpeg:https://medfordrogue.org/wp-content/uploads/2024/10/Meeting-Image.jpg
END:VEVENT
BEGIN:VEVENT
DTSTART;TZID=America/Los_Angeles:20241211T121000
DTEND;TZID=America/Los_Angeles:20241211T131000
DTSTAMP:20260422T153747
CREATED:20240911T134030Z
LAST-MODIFIED:20241209T190953Z
UID:56769-1733919000-1733922600@medfordrogue.org
SUMMARY:Club Meeting-December 11th No Meeting
DESCRIPTION:
URL:https://medfordrogue.org/event/club-meeting-december-11th-no-meeting/
CATEGORIES:Club Meeting
ATTACH;FMTTYPE=image/jpeg:https://medfordrogue.org/wp-content/uploads/2023/04/1682386577_No-meeting-July-22nd.jpg
END:VEVENT
BEGIN:VEVENT
DTSTART;TZID=America/Los_Angeles:20241218T121000
DTEND;TZID=America/Los_Angeles:20241218T131000
DTSTAMP:20260422T153747
CREATED:20240911T134129Z
LAST-MODIFIED:20241217T054109Z
UID:56773-1734523800-1734527400@medfordrogue.org
SUMMARY:Club Meeting-December 18th No Meeting
DESCRIPTION:
URL:https://medfordrogue.org/event/club-meeting-december-18th-no-meeting/
CATEGORIES:Club Meeting
ATTACH;FMTTYPE=image/jpeg:https://medfordrogue.org/wp-content/uploads/2023/04/1682386577_No-meeting-July-22nd.jpg
END:VEVENT
BEGIN:VEVENT
DTSTART;TZID=America/Los_Angeles:20241225T121000
DTEND;TZID=America/Los_Angeles:20241225T131000
DTSTAMP:20260422T153747
CREATED:20240911T134209Z
LAST-MODIFIED:20241105T072141Z
UID:56775-1735128600-1735132200@medfordrogue.org
SUMMARY:Club Meeting-December 25th No Meeting
DESCRIPTION:
URL:https://medfordrogue.org/event/club-meeting-december-25th-no-meeting/
CATEGORIES:Club Meeting
ATTACH;FMTTYPE=image/jpeg:https://medfordrogue.org/wp-content/uploads/2023/04/No-meeting-July-22nd.jpg
END:VEVENT
BEGIN:VEVENT
DTSTART;TZID=America/Los_Angeles:20250101T121000
DTEND;TZID=America/Los_Angeles:20250101T131000
DTSTAMP:20260422T153747
CREATED:20241112T184340Z
LAST-MODIFIED:20241210T040200Z
UID:57117-1735733400-1735737000@medfordrogue.org
SUMMARY:January 1 No Meeting
DESCRIPTION:
URL:https://medfordrogue.org/event/january-1-no-meeting/
CATEGORIES:Club Meeting
ATTACH;FMTTYPE=image/jpeg:https://medfordrogue.org/wp-content/uploads/2023/04/No-meeting-July-22nd.jpg
END:VEVENT
BEGIN:VEVENT
DTSTART;TZID=America/Los_Angeles:20250108T121000
DTEND;TZID=America/Los_Angeles:20250108T131000
DTSTAMP:20260422T153747
CREATED:20241112T184440Z
LAST-MODIFIED:20250104T041948Z
UID:57119-1736338200-1736341800@medfordrogue.org
SUMMARY:January 8th No Meeting
DESCRIPTION:
URL:https://medfordrogue.org/event/january-8th-no-meeting/
CATEGORIES:Club Meeting
ATTACH;FMTTYPE=image/jpeg:https://medfordrogue.org/wp-content/uploads/2023/04/1682386577_No-meeting-July-22nd.jpg
END:VEVENT
BEGIN:VEVENT
DTSTART;TZID=America/Los_Angeles:20250115T121000
DTEND;TZID=America/Los_Angeles:20250115T131000
DTSTAMP:20260422T153747
CREATED:20241112T184610Z
LAST-MODIFIED:20250114T072952Z
UID:57121-1736943000-1736946600@medfordrogue.org
SUMMARY:January 15 - No Meeting
DESCRIPTION:
URL:https://medfordrogue.org/event/january-15-no-meeting/
CATEGORIES:Club Meeting
ATTACH;FMTTYPE=image/jpeg:https://medfordrogue.org/wp-content/uploads/2023/04/1682386577_No-meeting-July-22nd.jpg
END:VEVENT
BEGIN:VEVENT
DTSTART;TZID=America/Los_Angeles:20250122T121500
DTEND;TZID=America/Los_Angeles:20250122T131500
DTSTAMP:20260422T153747
CREATED:20250114T173541Z
LAST-MODIFIED:20250121T154708Z
UID:57293-1737548100-1737551700@medfordrogue.org
SUMMARY:YMCA Strengthening Communities
DESCRIPTION:• Program Title: Strengthening Communities – YMCA\n• Speaker: Brad Russell\n• Program Introducer: Angela Durant\n• Sergeants: Kurt Hildebrand
URL:https://medfordrogue.org/event/ymca-strengthening-communities/
CATEGORIES:Club Meeting
END:VEVENT
BEGIN:VEVENT
DTSTART;TZID=America/Los_Angeles:20250129T121000
DTEND;TZID=America/Los_Angeles:20250129T131000
DTSTAMP:20260422T153747
CREATED:20241112T184837Z
LAST-MODIFIED:20250127T181813Z
UID:57125-1738152600-1738156200@medfordrogue.org
SUMMARY:January 29 Meeting - Smart  - Oregon Literacy
DESCRIPTION:Program Title:SMART – Literacy in Oregon\nSpeaker: Leona Westdahl\nProgram Introducer: Cam McCandless\nGreeter: Angela Durant\, Kari May\nAttendance: TBD\nSergeants: Kevin Shahalami
URL:https://medfordrogue.org/event/january-29-meeting/
CATEGORIES:Club Meeting
END:VEVENT
BEGIN:VEVENT
DTSTART;TZID=America/Los_Angeles:20250205T121000
DTEND;TZID=America/Los_Angeles:20250205T131000
DTSTAMP:20260422T153747
CREATED:20241112T184948Z
LAST-MODIFIED:20250127T201951Z
UID:57127-1738757400-1738761000@medfordrogue.org
SUMMARY:February 5 Meeting - Rotary Shelter Boxes
DESCRIPTION:Program Title: Shelter Boxes\nSpeaker: Becky and Dan Hanenkrat\nProgram Introducer: Claudette Moore\nGreeter: TBD\nSergeants: Gene Tayor
URL:https://medfordrogue.org/event/february-5/
CATEGORIES:Club Meeting
END:VEVENT
BEGIN:VEVENT
DTSTART;TZID=America/Los_Angeles:20250212T121000
DTEND;TZID=America/Los_Angeles:20250212T131000
DTSTAMP:20260422T153747
CREATED:20241112T185204Z
LAST-MODIFIED:20250210T154737Z
UID:57132-1739362200-1739365800@medfordrogue.org
SUMMARY:February 12 Meeting  Oxygen Park
DESCRIPTION:Program Title: Oxygen Park\nSpeaker: Buzz Thielman\nProgram Introducer: George Prokop\nGreeter: TBD\nSergeants: Gene Taylor
URL:https://medfordrogue.org/event/february-12-meeting/
CATEGORIES:Club Meeting
END:VEVENT
END:VCALENDAR