BEGIN:VCALENDAR
VERSION:2.0
PRODID:-//Medford Rogue Rotary - ECPv6.15.20//NONSGML v1.0//EN
CALSCALE:GREGORIAN
METHOD:PUBLISH
X-ORIGINAL-URL:https://medfordrogue.org
X-WR-CALDESC:Events for Medford Rogue Rotary
REFRESH-INTERVAL;VALUE=DURATION:PT1H
X-Robots-Tag:noindex
X-PUBLISHED-TTL:PT1H
BEGIN:VTIMEZONE
TZID:America/Los_Angeles
BEGIN:DAYLIGHT
TZOFFSETFROM:-0800
TZOFFSETTO:-0700
TZNAME:PDT
DTSTART:20240310T100000
END:DAYLIGHT
BEGIN:STANDARD
TZOFFSETFROM:-0700
TZOFFSETTO:-0800
TZNAME:PST
DTSTART:20241103T090000
END:STANDARD
BEGIN:DAYLIGHT
TZOFFSETFROM:-0800
TZOFFSETTO:-0700
TZNAME:PDT
DTSTART:20250309T100000
END:DAYLIGHT
BEGIN:STANDARD
TZOFFSETFROM:-0700
TZOFFSETTO:-0800
TZNAME:PST
DTSTART:20251102T090000
END:STANDARD
BEGIN:DAYLIGHT
TZOFFSETFROM:-0800
TZOFFSETTO:-0700
TZNAME:PDT
DTSTART:20260308T100000
END:DAYLIGHT
BEGIN:STANDARD
TZOFFSETFROM:-0700
TZOFFSETTO:-0800
TZNAME:PST
DTSTART:20261101T090000
END:STANDARD
END:VTIMEZONE
BEGIN:VEVENT
DTSTART;TZID=America/Los_Angeles:20250514T121000
DTEND;TZID=America/Los_Angeles:20250514T131000
DTSTAMP:20260421T193303
CREATED:20250217T182146Z
LAST-MODIFIED:20250428T195552Z
UID:57408-1747224600-1747228200@medfordrogue.org
SUMMARY:May 14 2025 Our Exchange Student Nahti
DESCRIPTION:Program Title: Nahti  – Year in Review\nSpeaker: Nahti\nProgram Introducer: Beth Zerkel\nSergeants: Claudette Moore
URL:https://medfordrogue.org/event/may-14-2025-club-meeting/
CATEGORIES:Club Meeting
END:VEVENT
BEGIN:VEVENT
DTSTART;TZID=America/Los_Angeles:20250521T121000
DTEND;TZID=America/Los_Angeles:20250521T131000
DTSTAMP:20260421T193303
CREATED:20250217T182244Z
LAST-MODIFIED:20250217T182244Z
UID:57410-1747829400-1747833000@medfordrogue.org
SUMMARY:May 21 2025 No Club Meeting
DESCRIPTION:
URL:https://medfordrogue.org/event/may-21-2025-no-club-meeting/
CATEGORIES:Club Meeting
END:VEVENT
BEGIN:VEVENT
DTSTART;TZID=America/Los_Angeles:20250528T121000
DTEND;TZID=America/Los_Angeles:20250528T131000
DTSTAMP:20260421T193303
CREATED:20250217T182417Z
LAST-MODIFIED:20250526T170916Z
UID:57412-1748434200-1748437800@medfordrogue.org
SUMMARY:May 28 2025  SW Oregon District\, Ore Dept of Forestry protection
DESCRIPTION:Program Title: Wildland Fire Protection Program\nSpeaker:  Lee Winslow\, Medford District  Unit Mgr\nProgram Introducer: Doug Schmor\nSergeants: Kurt Hildebrand
URL:https://medfordrogue.org/event/may-28-2025-club-meeting/
CATEGORIES:Club Meeting
END:VEVENT
BEGIN:VEVENT
DTSTART;TZID=America/Los_Angeles:20250604T121000
DTEND;TZID=America/Los_Angeles:20250604T131000
DTSTAMP:20260421T193303
CREATED:20250304T171041Z
LAST-MODIFIED:20250522T133609Z
UID:57501-1749039000-1749042600@medfordrogue.org
SUMMARY:June 4\, 2025 SOESD -  Southern Oregon Career Center
DESCRIPTION:Program Title:  SOESD\nSpeaker:  Brad Capener\nProgram Introducer:  Claudette \nSergeants: Damien Rennie
URL:https://medfordrogue.org/event/june-4-2025/
CATEGORIES:Club Meeting
END:VEVENT
BEGIN:VEVENT
DTSTART;TZID=America/Los_Angeles:20250611T121000
DTEND;TZID=America/Los_Angeles:20250611T131000
DTSTAMP:20260421T193303
CREATED:20250304T171211Z
LAST-MODIFIED:20250603T133826Z
UID:57505-1749643800-1749647400@medfordrogue.org
SUMMARY:June 11 2025  Medford Rogue Rotary Foundation Annual Meeting
DESCRIPTION:Program Title: Annual Meeting\nSpeaker: Jared Pulver\, Presiding\nProgram Introducer:\nSergeants: Kevin Shahalami
URL:https://medfordrogue.org/event/june-11-2025-club-meeting/
CATEGORIES:Club Meeting
END:VEVENT
BEGIN:VEVENT
DTSTART;TZID=America/Los_Angeles:20250618T121000
DTEND;TZID=America/Los_Angeles:20250618T131000
DTSTAMP:20260421T193303
CREATED:20250304T171311Z
LAST-MODIFIED:20250304T171311Z
UID:57507-1750248600-1750252200@medfordrogue.org
SUMMARY:June 18 2025 NO CLUB MEETING
DESCRIPTION:
URL:https://medfordrogue.org/event/june-18-2025-no-club-meeting/
CATEGORIES:Club Meeting
END:VEVENT
BEGIN:VEVENT
DTSTART;TZID=America/Los_Angeles:20250625T121000
DTEND;TZID=America/Los_Angeles:20250625T131000
DTSTAMP:20260421T193303
CREATED:20250304T171540Z
LAST-MODIFIED:20250503T145541Z
UID:57509-1750853400-1750857000@medfordrogue.org
SUMMARY:June 25 2025 New Spirit Village
DESCRIPTION:Program Title: Innovative affordable housing community in Medford\nSpeaker: Barry and Kathryn Thalden\nProgram Introducer: Claudette\nSergeants: Gene Taylor
URL:https://medfordrogue.org/event/an-innovative-affordable-housing-community-in-medford/
CATEGORIES:Club Meeting
END:VEVENT
BEGIN:VEVENT
DTSTART;TZID=America/Los_Angeles:20250702T121000
DTEND;TZID=America/Los_Angeles:20250702T131000
DTSTAMP:20260421T193303
CREATED:20250617T155329Z
LAST-MODIFIED:20250617T171947Z
UID:57842-1751458200-1751461800@medfordrogue.org
SUMMARY:July 2 2025 Meeting  Passing of the Gavel
DESCRIPTION:Program Title: Passing of the Gavel\nSpeaker: Rachel Torres and George Prokop\nProgram Introducer: TBD\nSergeants: TBD
URL:https://medfordrogue.org/event/july-2-meeting/
CATEGORIES:Club Meeting
END:VEVENT
BEGIN:VEVENT
DTSTART;TZID=America/Los_Angeles:20250709T121000
DTEND;TZID=America/Los_Angeles:20250709T131000
DTSTAMP:20260421T193303
CREATED:20250502T224650Z
LAST-MODIFIED:20250630T155109Z
UID:57648-1752063000-1752066600@medfordrogue.org
SUMMARY:July 9 2025   A Rad Story:  My Evolution in Nuclear Engineering
DESCRIPTION:Program Title: A Rad Story:  My Evolution in Nuclear Engineering\nSpeaker: Matthew Hageman\, Engineer II\, Kairos Power\nProgram Introducer: Eric Hodnett\nSergeants: Damien Rennie
URL:https://medfordrogue.org/event/july-9-2025/
CATEGORIES:Club Meeting
END:VEVENT
BEGIN:VEVENT
DTSTART;TZID=America/Los_Angeles:20250716T121000
DTEND;TZID=America/Los_Angeles:20250716T131000
DTSTAMP:20260421T193303
CREATED:20250502T224746Z
LAST-MODIFIED:20250502T224746Z
UID:57650-1752667800-1752671400@medfordrogue.org
SUMMARY:July 16 2025 NO MEETING
DESCRIPTION:
URL:https://medfordrogue.org/event/july-16-2025-no-meeting/
CATEGORIES:Club Meeting
END:VEVENT
BEGIN:VEVENT
DTSTART;TZID=America/Los_Angeles:20250723T121000
DTEND;TZID=America/Los_Angeles:20250723T131000
DTSTAMP:20260421T193303
CREATED:20250502T224848Z
LAST-MODIFIED:20250708T150149Z
UID:57652-1753272600-1753276200@medfordrogue.org
SUMMARY:July 23 2025 - Criminal Justice System - Update
DESCRIPTION:Program Title:\n\n\n\n\n\nCriminal Justice System Update\n\n\n\n\n\n\n\nSpeaker: Sheriff Nathan Sickler\nProgram Introducer: TBD\nSergeants: Claudette Moore
URL:https://medfordrogue.org/event/july-23-2025/
CATEGORIES:Club Meeting
END:VEVENT
BEGIN:VEVENT
DTSTART;TZID=America/Los_Angeles:20250730T121000
DTEND;TZID=America/Los_Angeles:20250730T131000
DTSTAMP:20260421T193303
CREATED:20250730T160631Z
LAST-MODIFIED:20250730T160631Z
UID:58114-1753877400-1753881000@medfordrogue.org
SUMMARY:July 30 2025 RYLA Students' Report
DESCRIPTION:Program Title: RYLA Students’ Reports\nSpeaker:\n\n\n\n\n\n\n\n\nDawson Ghavam\, Natalie Hung\, Rtystal Rangel Villa\n\n\n\n\n\n\n\nProgram Introducer: Kellie Hill\nSergeants: Kellie Hill
URL:https://medfordrogue.org/event/july-30-2025-ryla-students-report/
CATEGORIES:Club Meeting
END:VEVENT
BEGIN:VEVENT
DTSTART;TZID=America/Los_Angeles:20250806T121000
DTEND;TZID=America/Los_Angeles:20250806T131000
DTSTAMP:20260421T193303
CREATED:20250502T225159Z
LAST-MODIFIED:20250715T151245Z
UID:57657-1754482200-1754485800@medfordrogue.org
SUMMARY:August 6 2025\, Fry\, Thrive or Die:  A fun guide to edibles
DESCRIPTION:Program Title: Fry\, thrive or die :  A fun guide to the edibles \n\n\n\n\n\n\n\n\n\n\n\n\n\n\n\n\n\n\n\n\n\n\n\n\n\n\nSpeaker: Dr Mike Amaranthus\, Assoc Adjunct Professor Oregon State Univ\nProgram Introducer: Kurt Hildebrand\nSergeants: Gina Clyburn
URL:https://medfordrogue.org/event/august-6-2025/
CATEGORIES:Club Meeting
END:VEVENT
BEGIN:VEVENT
DTSTART;TZID=America/Los_Angeles:20250813T121000
DTEND;TZID=America/Los_Angeles:20250813T131000
DTSTAMP:20260421T193303
CREATED:20250502T225258Z
LAST-MODIFIED:20250729T212825Z
UID:57659-1755087000-1755090600@medfordrogue.org
SUMMARY:August 13 2025 Meeting - Medford Police Dept Livability Team
DESCRIPTION:Program Title: Medford Livability Team update\nSpeaker: Sergeant Jason Antley of Medford Police Department Livability Team\nProgram Introducer: Laura Robles\nSergeants: Kurt Hildebrand
URL:https://medfordrogue.org/event/august-13-2025/
CATEGORIES:Club Meeting
END:VEVENT
BEGIN:VEVENT
DTSTART;TZID=America/Los_Angeles:20250820T121000
DTEND;TZID=America/Los_Angeles:20250820T131000
DTSTAMP:20260421T193303
CREATED:20250502T225823Z
LAST-MODIFIED:20250807T003935Z
UID:57666-1755691800-1755695400@medfordrogue.org
SUMMARY:August 20 2025 NO MEETING -Hummingbird Fellowship alternative event
DESCRIPTION:
URL:https://medfordrogue.org/event/august-20-2025/
CATEGORIES:Club Meeting
END:VEVENT
BEGIN:VEVENT
DTSTART;TZID=America/Los_Angeles:20250827T121000
DTEND;TZID=America/Los_Angeles:20250827T131000
DTSTAMP:20260421T193303
CREATED:20250502T225356Z
LAST-MODIFIED:20250805T183330Z
UID:57661-1756296600-1756300200@medfordrogue.org
SUMMARY:August 27 2025 NO MEETING -field trip
DESCRIPTION:Field Trip!!! NIC Industries tour on 8/27\nat NIC Industries \nAugust 27\, 2025 @ 12:00 pm to 1:15 pm
URL:https://medfordrogue.org/event/august-27-2025/
CATEGORIES:Club Meeting
END:VEVENT
BEGIN:VEVENT
DTSTART;TZID=America/Los_Angeles:20250903T121000
DTEND;TZID=America/Los_Angeles:20250903T131000
DTSTAMP:20260421T193303
CREATED:20250708T165843Z
LAST-MODIFIED:20250824T160951Z
UID:57996-1756901400-1756905000@medfordrogue.org
SUMMARY:September 3 2025 - What's new in Artificial Intelligence?
DESCRIPTION:Program Title: AI is increasing its abilities at an amazing rate.  Things we should know\nSpeaker: Jason Scott\, Technology Education Specialist\, Ticor Title\nProgram Introducer: Claudette Moore\nSergeants: TBD
URL:https://medfordrogue.org/event/september-3-2025/
CATEGORIES:Club Meeting
END:VEVENT
BEGIN:VEVENT
DTSTART;TZID=America/Los_Angeles:20250910T121000
DTEND;TZID=America/Los_Angeles:20250910T131000
DTSTAMP:20260421T193303
CREATED:20250708T170153Z
LAST-MODIFIED:20250908T163648Z
UID:58000-1757506200-1757509800@medfordrogue.org
SUMMARY:September 10 2025  Rogue Valley Transit District
DESCRIPTION:Program Title:Update on the RVTD\nSpeaker:  Kelly Madding\, COO\nProgram Introducer: Claudette Moore\nSergeants: Gene Taylor
URL:https://medfordrogue.org/event/september-10-2025/
CATEGORIES:Club Meeting
END:VEVENT
BEGIN:VEVENT
DTSTART;TZID=America/Los_Angeles:20250917T121000
DTEND;TZID=America/Los_Angeles:20250917T131000
DTSTAMP:20260421T193303
CREATED:20250708T170241Z
LAST-MODIFIED:20250719T140321Z
UID:58002-1758111000-1758114600@medfordrogue.org
SUMMARY:September 17 2025 No Meeting
DESCRIPTION:
URL:https://medfordrogue.org/event/no-meeting/
CATEGORIES:Club Meeting
END:VEVENT
BEGIN:VEVENT
DTSTART;TZID=America/Los_Angeles:20250924T121000
DTEND;TZID=America/Los_Angeles:20250924T131000
DTSTAMP:20260421T193303
CREATED:20250708T170350Z
LAST-MODIFIED:20250922T164727Z
UID:58004-1758715800-1758719400@medfordrogue.org
SUMMARY:September 24 2025  Update from Washington DC - Rep Cliff Bentz
DESCRIPTION:\, \n\nProgram Title: Update from Washington DC\nSpeaker:\n\n\n\n\n\n\n\nCongressman  Cliff Bentz – U S Representative Oregons 2nd District\n\n\n\n\n\n\nProgram Introducer:  Mike Heverly\nSergeants: Gene Taylor
URL:https://medfordrogue.org/event/september-24-2025/
CATEGORIES:Club Meeting
END:VEVENT
BEGIN:VEVENT
DTSTART;TZID=America/Los_Angeles:20251001T121000
DTEND;TZID=America/Los_Angeles:20251001T131000
DTSTAMP:20260421T193303
CREATED:20250708T170448Z
LAST-MODIFIED:20251008T225305Z
UID:58006-1759320600-1759324200@medfordrogue.org
SUMMARY:Club Meeting - District Governor Chris Waugh
DESCRIPTION:Program Title: District Governor Chris Waugh\n\nSpeaker:\nProgram Introducer: George Prokop\nSergeants: Kellie Hill
URL:https://medfordrogue.org/event/october-1-2025/
CATEGORIES:Club Meeting
END:VEVENT
BEGIN:VEVENT
DTSTART;TZID=America/Los_Angeles:20251008T121000
DTEND;TZID=America/Los_Angeles:20251008T131000
DTSTAMP:20260421T193303
CREATED:20250719T140554Z
LAST-MODIFIED:20251008T225252Z
UID:58072-1759925400-1759929000@medfordrogue.org
SUMMARY:Club Meeting - Oregon Shakespeare Festival
DESCRIPTION:Program Title: Update on OSF – Insider view of this local Gem\nSpeaker: Exec Director – Javier Dubon\nProgram Introducer: Paul Christy\nSergeants: Gina Clyburn\nGreeter: Kile Halliday and Eric Foster
URL:https://medfordrogue.org/event/october-8-2025/
LOCATION:Rogue Valley Country Club\, 2660 Hillcrest Rd\, Medford\, OR\, 97504\, United States
CATEGORIES:Club Meeting,Zoom Available
END:VEVENT
BEGIN:VEVENT
DTSTART;TZID=America/Los_Angeles:20251015T121000
DTEND;TZID=America/Los_Angeles:20251015T131000
DTSTAMP:20260421T193303
CREATED:20250719T141150Z
LAST-MODIFIED:20251010T190655Z
UID:58082-1760530200-1760533800@medfordrogue.org
SUMMARY:Club Meeting - No Meeting
DESCRIPTION:
URL:https://medfordrogue.org/event/october-15-no-meeting/
CATEGORIES:Club Meeting
ATTACH;FMTTYPE=image/jpeg:https://medfordrogue.org/wp-content/uploads/2023/04/No-meeting-July-22nd.jpg
END:VEVENT
BEGIN:VEVENT
DTSTART;TZID=America/Los_Angeles:20251022T121000
DTEND;TZID=America/Los_Angeles:20251022T130000
DTSTAMP:20260421T193303
CREATED:20250719T141252Z
LAST-MODIFIED:20251021T060452Z
UID:58084-1761135000-1761138000@medfordrogue.org
SUMMARY:Club Meeting - Southern Oregon University
DESCRIPTION:Program Title: Update on OSU\nSpeaker: President Rick Bailey\nProgram Introducer: Paul Christy\nSergeants: Judy Lininger\nGreeters: Peter Sage and Bob Wise
URL:https://medfordrogue.org/event/october-22-2025-meeting/
LOCATION:Rogue Valley Country Club\, 2660 Hillcrest Rd\, Medford\, OR\, 97504\, United States
CATEGORIES:Club Meeting,Zoom Available
ATTACH;FMTTYPE=image/jpeg:https://medfordrogue.org/wp-content/uploads/2024/10/Meeting-Image.jpg
END:VEVENT
BEGIN:VEVENT
DTSTART;TZID=America/Los_Angeles:20251023T173000
DTEND;TZID=America/Los_Angeles:20251023T183000
DTSTAMP:20260421T193303
CREATED:20251010T183337Z
LAST-MODIFIED:20251104T165432Z
UID:58480-1761240600-1761244200@medfordrogue.org
SUMMARY:Satellite Club Meeting
DESCRIPTION:October 23\, November 13\, December 11
URL:https://medfordrogue.org/event/satellite-club-meeting/
LOCATION:Gold Rush Brewing\, 1100 N Central Ave\, Medford\, OR\, 97501\, United States
CATEGORIES:Satellite Club Meeting
END:VEVENT
BEGIN:VEVENT
DTSTART;TZID=America/Los_Angeles:20251029T121000
DTEND;TZID=America/Los_Angeles:20251029T131000
DTSTAMP:20260421T193303
CREATED:20250909T173451Z
LAST-MODIFIED:20251021T060706Z
UID:58270-1761739800-1761743400@medfordrogue.org
SUMMARY:Club Meeting - Oct 29 80th Anniversary of National Disability Employment Awareness Month
DESCRIPTION:Program Title: 80th Anniversary of National Disability Employment Awareness Month\n    October marks the 80th Anniversary of a nationwide campaign that celebrates the contributions of workers with disabilities and\n     highlights the importance of inclusive employment practices\nSpeaker: Amber Myre\, CEO Living Opportunities Inc\nProgram Introducer: Claudette Moore\nSergeants: Claudette Moore\nGreeters: Brian Watkins and TBD
URL:https://medfordrogue.org/event/october-29-2025/
CATEGORIES:Club Meeting,Zoom Available
ATTACH;FMTTYPE=image/jpeg:https://medfordrogue.org/wp-content/uploads/2024/10/Meeting-Image.jpg
END:VEVENT
BEGIN:VEVENT
DTSTART;TZID=America/Los_Angeles:20251105T121000
DTEND;TZID=America/Los_Angeles:20251105T131000
DTSTAMP:20260421T193303
CREATED:20250909T173629Z
LAST-MODIFIED:20251103T225201Z
UID:58272-1762344600-1762348200@medfordrogue.org
SUMMARY:Club Meeting - 911 call for a Caregiving Crises
DESCRIPTION:Program Title:911 Call for a Caregiving Crises\nSpeaker: Sudhir Gautam\, The Care Steward\nProgram Introducer: Mike Heverly\nSergeants: Kurt Hildebrand\nGreeters: Stacy Shelton and Mark Silberman
URL:https://medfordrogue.org/event/november-5-2025/
LOCATION:Rogue Valley Country Club\, 2660 Hillcrest Rd\, Medford\, OR\, 97504\, United States
CATEGORIES:Club Meeting,Zoom Available
ATTACH;FMTTYPE=image/jpeg:https://medfordrogue.org/wp-content/uploads/2024/10/Meeting-Image.jpg
END:VEVENT
BEGIN:VEVENT
DTSTART;TZID=America/Los_Angeles:20251112T121000
DTEND;TZID=America/Los_Angeles:20251112T131000
DTSTAMP:20260421T193303
CREATED:20250909T173723Z
LAST-MODIFIED:20251103T225738Z
UID:58274-1762949400-1762953000@medfordrogue.org
SUMMARY:Club Meeting- Update on Jefferson Public Radio
DESCRIPTION:Program Title:  Update on Jefferson Public Radio\nSpeaker: Paul Westhelle\, Exed Director JPR\nProgram Introducer: Paul Christy\nSergeants: Gene Taylor\nGreeters: Sue Kupillas and Mark Silberman
URL:https://medfordrogue.org/event/november-12-2025/
LOCATION:Rogue Valley Country Club\, 2660 Hillcrest Rd\, Medford\, OR\, 97504\, United States
CATEGORIES:Club Meeting,Zoom Available
ATTACH;FMTTYPE=image/jpeg:https://medfordrogue.org/wp-content/uploads/2024/10/Meeting-Image.jpg
END:VEVENT
BEGIN:VEVENT
DTSTART;TZID=America/Los_Angeles:20251113T173000
DTEND;TZID=America/Los_Angeles:20251113T183000
DTSTAMP:20260421T193303
CREATED:20251010T184412Z
LAST-MODIFIED:20251205T014700Z
UID:58484-1763055000-1763058600@medfordrogue.org
SUMMARY:Satellite Club Meeting
DESCRIPTION:October 23\, November 13\, December 11
URL:https://medfordrogue.org/event/satellite-club-meeting-2/
LOCATION:Gold Rush Brewing\, 1100 N Central Ave\, Medford\, OR\, 97501\, United States
CATEGORIES:Satellite Club Meeting
END:VEVENT
BEGIN:VEVENT
DTSTART;TZID=America/Los_Angeles:20251119T121000
DTEND;TZID=America/Los_Angeles:20251119T131000
DTSTAMP:20260421T193303
CREATED:20250909T173847Z
LAST-MODIFIED:20251010T190350Z
UID:58276-1763554200-1763557800@medfordrogue.org
SUMMARY:Club Meeting - NO MEETING
DESCRIPTION:
URL:https://medfordrogue.org/event/november-19-2025-no-meeting/
CATEGORIES:Club Meeting
ATTACH;FMTTYPE=image/jpeg:https://medfordrogue.org/wp-content/uploads/2023/04/No-meeting-July-22nd.jpg
END:VEVENT
END:VCALENDAR