BEGIN:VCALENDAR
VERSION:2.0
PRODID:-//Medford Rogue Rotary - ECPv6.15.20//NONSGML v1.0//EN
CALSCALE:GREGORIAN
METHOD:PUBLISH
X-WR-CALNAME:Medford Rogue Rotary
X-ORIGINAL-URL:https://medfordrogue.org
X-WR-CALDESC:Events for Medford Rogue Rotary
REFRESH-INTERVAL;VALUE=DURATION:PT1H
X-Robots-Tag:noindex
X-PUBLISHED-TTL:PT1H
BEGIN:VTIMEZONE
TZID:America/Los_Angeles
BEGIN:DAYLIGHT
TZOFFSETFROM:-0800
TZOFFSETTO:-0700
TZNAME:PDT
DTSTART:20240310T100000
END:DAYLIGHT
BEGIN:STANDARD
TZOFFSETFROM:-0700
TZOFFSETTO:-0800
TZNAME:PST
DTSTART:20241103T090000
END:STANDARD
BEGIN:DAYLIGHT
TZOFFSETFROM:-0800
TZOFFSETTO:-0700
TZNAME:PDT
DTSTART:20250309T100000
END:DAYLIGHT
BEGIN:STANDARD
TZOFFSETFROM:-0700
TZOFFSETTO:-0800
TZNAME:PST
DTSTART:20251102T090000
END:STANDARD
BEGIN:DAYLIGHT
TZOFFSETFROM:-0800
TZOFFSETTO:-0700
TZNAME:PDT
DTSTART:20260308T100000
END:DAYLIGHT
BEGIN:STANDARD
TZOFFSETFROM:-0700
TZOFFSETTO:-0800
TZNAME:PST
DTSTART:20261101T090000
END:STANDARD
BEGIN:DAYLIGHT
TZOFFSETFROM:-0800
TZOFFSETTO:-0700
TZNAME:PDT
DTSTART:20270314T100000
END:DAYLIGHT
BEGIN:STANDARD
TZOFFSETFROM:-0700
TZOFFSETTO:-0800
TZNAME:PST
DTSTART:20271107T090000
END:STANDARD
END:VTIMEZONE
BEGIN:VEVENT
DTSTART;TZID=America/Los_Angeles:20251211T173000
DTEND;TZID=America/Los_Angeles:20251211T183000
DTSTAMP:20260421T143227
CREATED:20251010T184948Z
LAST-MODIFIED:20251205T014621Z
UID:58491-1765474200-1765477800@medfordrogue.org
SUMMARY:Satellite Club Meeting
DESCRIPTION:
URL:https://medfordrogue.org/event/satellite-club-meeting-4/
LOCATION:Gold Rush Brewing\, 1100 N Central Ave\, Medford\, OR\, 97501\, United States
CATEGORIES:Satellite Club Meeting
END:VEVENT
BEGIN:VEVENT
DTSTART;TZID=America/Los_Angeles:20251224T121000
DTEND;TZID=America/Los_Angeles:20251224T131000
DTSTAMP:20260421T143227
CREATED:20251121T003319Z
LAST-MODIFIED:20251121T004301Z
UID:58759-1766578200-1766581800@medfordrogue.org
SUMMARY:December 24\, 2025 NO MEETING
DESCRIPTION:
URL:https://medfordrogue.org/event/december-24-2025-no-meeting/
CATEGORIES:Club Meeting
ATTACH;FMTTYPE=image/jpeg:https://medfordrogue.org/wp-content/uploads/2024/08/No-meeting-150x150-1.jpg
END:VEVENT
BEGIN:VEVENT
DTSTART;TZID=America/Los_Angeles:20251231T121000
DTEND;TZID=America/Los_Angeles:20251231T131000
DTSTAMP:20260421T143227
CREATED:20251121T004233Z
LAST-MODIFIED:20251121T004809Z
UID:58761-1767183000-1767186600@medfordrogue.org
SUMMARY:December 31\, 2025 NO MEETING
DESCRIPTION:
URL:https://medfordrogue.org/event/december-31-2025-no-meeting/
CATEGORIES:Club Meeting
ATTACH;FMTTYPE=image/jpeg:https://medfordrogue.org/wp-content/uploads/2024/08/No-meeting-150x150-1.jpg
END:VEVENT
BEGIN:VEVENT
DTSTART;TZID=America/Los_Angeles:20260107T121000
DTEND;TZID=America/Los_Angeles:20260107T131000
DTSTAMP:20260421T143227
CREATED:20251121T004723Z
LAST-MODIFIED:20251121T004723Z
UID:58768-1767787800-1767791400@medfordrogue.org
SUMMARY:January 7\, 2026 NO MEETING
DESCRIPTION:
URL:https://medfordrogue.org/event/january-7-2026-no-meeting/
CATEGORIES:Club Meeting
ATTACH;FMTTYPE=image/jpeg:https://medfordrogue.org/wp-content/uploads/2024/08/No-meeting-150x150-1.jpg
END:VEVENT
BEGIN:VEVENT
DTSTART;TZID=America/Los_Angeles:20260108T173000
DTEND;TZID=America/Los_Angeles:20260108T183000
DTSTAMP:20260421T143227
CREATED:20251202T025211Z
LAST-MODIFIED:20260108T210802Z
UID:58794-1767893400-1767897000@medfordrogue.org
SUMMARY:Satellite Club Meeting 1/8
DESCRIPTION:
URL:https://medfordrogue.org/event/satellite-club-meeting-3/
LOCATION:Gold Rush Brewing\, 1100 N Central Ave\, Medford\, OR\, 97501\, United States
CATEGORIES:Satellite Club Meeting
END:VEVENT
BEGIN:VEVENT
DTSTART;TZID=America/Los_Angeles:20260114T121000
DTEND;TZID=America/Los_Angeles:20260114T131000
DTSTAMP:20260421T143227
CREATED:20251014T124334Z
LAST-MODIFIED:20260112T213512Z
UID:58543-1768392600-1768396200@medfordrogue.org
SUMMARY:January 14\, 2026 Meeting - Downtown Medford Association
DESCRIPTION:  \n\nProgram Title:  Update on key changes – Medford Down Assoc\nSpeaker: Annie Jenkins\nProgram Introducer: Paul Christy\nSergeants: Claudette Moore
URL:https://medfordrogue.org/event/january-14-2026-meeting/
LOCATION:Rogue Valley Country Club\, 2660 Hillcrest Rd\, Medford\, OR\, 97504\, United States
CATEGORIES:Club Meeting,Zoom Available
ATTACH;FMTTYPE=image/jpeg:https://medfordrogue.org/wp-content/uploads/2024/10/Meeting-Image.jpg
END:VEVENT
BEGIN:VEVENT
DTSTART;VALUE=DATE:20260122
DTEND;VALUE=DATE:20260123
DTSTAMP:20260421T143227
CREATED:20260108T000137Z
LAST-MODIFIED:20260108T000137Z
UID:58916-1769040000-1769126399@medfordrogue.org
SUMMARY:January 21st 2026 -No Meeting
DESCRIPTION:
URL:https://medfordrogue.org/event/january-21st-2026-no-meeting/
CATEGORIES:Club Meeting
ATTACH;FMTTYPE=image/jpeg:https://medfordrogue.org/wp-content/uploads/2023/04/1682386577_No-meeting-July-22nd.jpg
END:VEVENT
BEGIN:VEVENT
DTSTART;TZID=America/Los_Angeles:20260122T173000
DTEND;TZID=America/Los_Angeles:20260122T183000
DTSTAMP:20260421T143227
CREATED:20251202T222646Z
LAST-MODIFIED:20251218T125118Z
UID:58804-1769103000-1769106600@medfordrogue.org
SUMMARY:Satellite Club Meeting
DESCRIPTION:
URL:https://medfordrogue.org/event/satellite-club/
LOCATION:Gold Rush Brewing\, 1100 N Central Ave\, Medford\, OR\, 97501\, United States
CATEGORIES:Satellite Club Meeting
END:VEVENT
BEGIN:VEVENT
DTSTART;TZID=America/Los_Angeles:20260128T121000
DTEND;TZID=America/Los_Angeles:20260128T131000
DTSTAMP:20260421T143227
CREATED:20251014T124528Z
LAST-MODIFIED:20260126T083110Z
UID:58545-1769602200-1769605800@medfordrogue.org
SUMMARY:January 28\, 2026 - Networking Assembly
DESCRIPTION:Program Title: Networking Assembly – “How well do you know your fellow Rotarians?  Exchange information and ideas to build better relationships.”\nSpeaker: Kellie Hill\nProgram Introducer: Kellie Hill\nSergeants: Gina Clyburn\nGreeters: Steve Dickson\, Amy Thuren
URL:https://medfordrogue.org/event/january-28-20206-meeting/
LOCATION:Rogue Valley Country Club\, 2660 Hillcrest Rd\, Medford\, OR\, 97504\, United States
CATEGORIES:Club Meeting,Zoom Available
ATTACH;FMTTYPE=image/jpeg:https://medfordrogue.org/wp-content/uploads/2024/10/Meeting-Image.jpg
END:VEVENT
BEGIN:VEVENT
DTSTART;TZID=America/Los_Angeles:20260204T121000
DTEND;TZID=America/Los_Angeles:20260204T131000
DTSTAMP:20260421T143227
CREATED:20251014T124717Z
LAST-MODIFIED:20260203T064355Z
UID:58549-1770207000-1770210600@medfordrogue.org
SUMMARY:February 4\, 2026 Meeting - Rogue Valley Symphony and local youth music education
DESCRIPTION:Program Title: Learn about the Rogue Valley Symphony’s programs and efforts supporting youth music education in the valley\nSpeaker: Martin Majkut\, Music Director and Conductor\nProgram Introducer: Paul Christy\nSergeants: Kurt Hildebrand\nGreeters: Jeff Cool
URL:https://medfordrogue.org/event/february-4-2026-meeting/
LOCATION:Rogue Valley Country Club\, 2660 Hillcrest Rd\, Medford\, OR\, 97504\, United States
CATEGORIES:Club Meeting,Zoom Available
ATTACH;FMTTYPE=image/jpeg:https://medfordrogue.org/wp-content/uploads/2024/10/Meeting-Image.jpg
END:VEVENT
BEGIN:VEVENT
DTSTART;TZID=America/Los_Angeles:20260211T121000
DTEND;TZID=America/Los_Angeles:20260211T131000
DTSTAMP:20260421T143227
CREATED:20251014T124823Z
LAST-MODIFIED:20260209T165506Z
UID:58551-1770811800-1770815400@medfordrogue.org
SUMMARY:February 11\, 2026 Meeting -   ACCESS update: Full Plates\, Full Hearts campaign and Powerpack
DESCRIPTION:Program Title:   Full Plates\, Full Hearts campaign and Rogue Powerpack updates\nSpeaker: Kellie Battaglia and Caty Mahoney\nProgram Introducer:  Angalee O’Conner\nSergeants: Gina\nGreeters: Laura Robles and Jeff Cool
URL:https://medfordrogue.org/event/february-11-2026-meeting/
LOCATION:Rogue Valley Country Club\, 2660 Hillcrest Rd\, Medford\, OR\, 97504\, United States
CATEGORIES:Club Meeting,Zoom Available
ATTACH;FMTTYPE=image/jpeg:https://medfordrogue.org/wp-content/uploads/2024/10/Meeting-Image.jpg
END:VEVENT
BEGIN:VEVENT
DTSTART;TZID=America/Los_Angeles:20260212T173000
DTEND;TZID=America/Los_Angeles:20260212T180000
DTSTAMP:20260421T143227
CREATED:20251202T222805Z
LAST-MODIFIED:20260127T012954Z
UID:58806-1770917400-1770919200@medfordrogue.org
SUMMARY:Satellite Club Meeting
DESCRIPTION:
URL:https://medfordrogue.org/event/satellite-club-2/
LOCATION:Gold Rush Brewing\, 1100 N Central Ave\, Medford\, OR\, 97501\, United States
CATEGORIES:Satellite Club Meeting
ATTACH;FMTTYPE=image/png:https://medfordrogue.org/wp-content/uploads/2026/01/Medford-Rogue-Satellite-Club.png
END:VEVENT
BEGIN:VEVENT
DTSTART;TZID=America/Los_Angeles:20260218T121000
DTEND;TZID=America/Los_Angeles:20260218T131000
DTSTAMP:20260421T143227
CREATED:20251202T222432Z
LAST-MODIFIED:20251202T222432Z
UID:58802-1771416600-1771420200@medfordrogue.org
SUMMARY:February 18 2026 No Meeting
DESCRIPTION:
URL:https://medfordrogue.org/event/february-18-2026-no-meeting/
CATEGORIES:Club Meeting
ATTACH;FMTTYPE=image/jpeg:https://medfordrogue.org/wp-content/uploads/2024/08/No-meeting-150x150-1.jpg
END:VEVENT
BEGIN:VEVENT
DTSTART;TZID=America/Los_Angeles:20260225T121000
DTEND;TZID=America/Los_Angeles:20260225T131000
DTSTAMP:20260421T143227
CREATED:20251014T124934Z
LAST-MODIFIED:20260205T163009Z
UID:58553-1772021400-1772025000@medfordrogue.org
SUMMARY:February 25\, 2026 Meeting -  Update on Innovation Academy
DESCRIPTION:Program Title: Innovation Academy & Winter in Candyland\nSpeaker: Dr Cassandra Thonstad\nProgram Introducer: Kellie Hill\nSergeants: Kellie Hill\nGreeters: Emma Nelson and Jeff Cool
URL:https://medfordrogue.org/event/february-25-2026/
LOCATION:Rogue Valley Country Club\, 2660 Hillcrest Rd\, Medford\, OR\, 97504\, United States
CATEGORIES:Club Meeting,Zoom Available
ATTACH;FMTTYPE=image/jpeg:https://medfordrogue.org/wp-content/uploads/2024/10/Meeting-Image.jpg
END:VEVENT
BEGIN:VEVENT
DTSTART;TZID=America/Los_Angeles:20260226T173000
DTEND;TZID=America/Los_Angeles:20260226T183000
DTSTAMP:20260421T143227
CREATED:20251202T222906Z
LAST-MODIFIED:20260127T012918Z
UID:58808-1772127000-1772130600@medfordrogue.org
SUMMARY:Satellite Club Meeting
DESCRIPTION:With special guest District Governor Chris Waugh
URL:https://medfordrogue.org/event/satellite-club-3/
LOCATION:Gold Rush Brewing\, 1100 N Central Ave\, Medford\, OR\, 97501\, United States
CATEGORIES:Satellite Club Meeting
ATTACH;FMTTYPE=image/png:https://medfordrogue.org/wp-content/uploads/2026/01/Medford-Rogue-Satellite-Club.png
END:VEVENT
BEGIN:VEVENT
DTSTART;TZID=America/Los_Angeles:20260304T121000
DTEND;TZID=America/Los_Angeles:20260304T131000
DTSTAMP:20260421T143227
CREATED:20251218T125430Z
LAST-MODIFIED:20260209T170355Z
UID:58868-1772626200-1772629800@medfordrogue.org
SUMMARY:March 4\, 2026 Meeting - History of Heart Attack Treatment
DESCRIPTION:Program Title: History of Heart Attack Treatment\nSpeaker: Dr Brian Gross\nProgram Introducer: Bud Bergstrom\nSergeant: Claudette Moore
URL:https://medfordrogue.org/event/march-4-2026-meeting/
LOCATION:Rogue Valley Country Club\, 2660 Hillcrest Rd\, Medford\, OR\, 97504\, United States
CATEGORIES:Club Meeting,Zoom Available
ATTACH;FMTTYPE=image/jpeg:https://medfordrogue.org/wp-content/uploads/2024/10/Meeting-Image.jpg
END:VEVENT
BEGIN:VEVENT
DTSTART;TZID=America/Los_Angeles:20260311T121000
DTEND;TZID=America/Los_Angeles:20260311T131000
DTSTAMP:20260421T143227
CREATED:20251218T125556Z
LAST-MODIFIED:20260209T170546Z
UID:58870-1773231000-1773234600@medfordrogue.org
SUMMARY:March 11\, 2026 Club Meeting Medford Water Commission
DESCRIPTION:Program Title:  Medford Water — Investing in our future\nSpeaker: Brad Taylor\, GM – Medford Water\nProgram Introducer: Jennifer Mylenek\nSergeant: Kurt Hildebrand
URL:https://medfordrogue.org/event/march-11-2026-club-meeting/
LOCATION:Rogue Valley Country Club\, 2660 Hillcrest Rd\, Medford\, OR\, 97504\, United States
CATEGORIES:Club Meeting,Zoom Available
ATTACH;FMTTYPE=image/jpeg:https://medfordrogue.org/wp-content/uploads/2024/10/Meeting-Image.jpg
END:VEVENT
BEGIN:VEVENT
DTSTART;TZID=America/Los_Angeles:20260312T173000
DTEND;TZID=America/Los_Angeles:20260312T183000
DTSTAMP:20260421T143227
CREATED:20260127T043407Z
LAST-MODIFIED:20260127T043407Z
UID:59014-1773336600-1773340200@medfordrogue.org
SUMMARY:March 12\, 2026 Satellite Club Meeting
DESCRIPTION:
URL:https://medfordrogue.org/event/march-12-2026-satellite-club-meeting/
LOCATION:Gold Rush Brewing\, 1100 N Central Ave\, Medford\, OR\, 97501\, United States
CATEGORIES:Satellite Club Meeting
ATTACH;FMTTYPE=image/png:https://medfordrogue.org/wp-content/uploads/2026/01/Medford-Rogue-Satellite-Club.png
END:VEVENT
BEGIN:VEVENT
DTSTART;TZID=America/Los_Angeles:20260325T121000
DTEND;TZID=America/Los_Angeles:20260325T131000
DTSTAMP:20260421T143227
CREATED:20251218T125958Z
LAST-MODIFIED:20260323T004146Z
UID:58874-1774440600-1774444200@medfordrogue.org
SUMMARY:March 25\, 2026 Meeting - Current Topics in Immigration Law in a time of Unprecedented challenges
DESCRIPTION:Program Title: Current topics in Immigration Law\nSpeaker: Kevin Stout and John Rafael Almaguer\, Stour Law LLC\nProgram Introducer: Lorenzo Majia\nSergeants: Gina Clyburn\nGreeters: Kari May and Stacy Shelton
URL:https://medfordrogue.org/event/march-25-2026-meeting/
LOCATION:Rogue Valley Country Club\, 2660 Hillcrest Rd\, Medford\, OR\, 97504\, United States
CATEGORIES:Club Meeting,Zoom Available
ATTACH;FMTTYPE=image/jpeg:https://medfordrogue.org/wp-content/uploads/2024/10/Meeting-Image.jpg
END:VEVENT
BEGIN:VEVENT
DTSTART;TZID=America/Los_Angeles:20260326T173000
DTEND;TZID=America/Los_Angeles:20260326T183000
DTSTAMP:20260421T143227
CREATED:20260127T043520Z
LAST-MODIFIED:20260127T043520Z
UID:59016-1774546200-1774549800@medfordrogue.org
SUMMARY:March 26\, 2026 Satellite Club Meeting
DESCRIPTION:
URL:https://medfordrogue.org/event/march-26-2026-satellite-club-meeting/
LOCATION:Gold Rush Brewing\, 1100 N Central Ave\, Medford\, OR\, 97501\, United States
CATEGORIES:Satellite Club Meeting
ATTACH;FMTTYPE=image/png:https://medfordrogue.org/wp-content/uploads/2026/01/Medford-Rogue-Satellite-Club.png
END:VEVENT
BEGIN:VEVENT
DTSTART;TZID=America/Los_Angeles:20260401T121000
DTEND;TZID=America/Los_Angeles:20260401T131000
DTSTAMP:20260421T143227
CREATED:20260126T234558Z
LAST-MODIFIED:20260323T193838Z
UID:58988-1775045400-1775049000@medfordrogue.org
SUMMARY:April 1\, 2026 Club Meeting  The Fine Art of Weather Prediction in Southern Oregon
DESCRIPTION:Program Title:  Weather forecasts and what’s ahead for our climate this year\nSpeaker: Matt Jordan \, KOBI tv\nProgram Introducer: Bob Wise\, GM\nSergeants: Claudette Moore
URL:https://medfordrogue.org/event/april-1-2026-club-meeting/
CATEGORIES:Club Meeting,Zoom Available
ATTACH;FMTTYPE=image/jpeg:https://medfordrogue.org/wp-content/uploads/2024/10/Meeting-Image.jpg
END:VEVENT
BEGIN:VEVENT
DTSTART;TZID=America/Los_Angeles:20260408T121000
DTEND;TZID=America/Los_Angeles:20260408T131000
DTSTAMP:20260421T143227
CREATED:20260126T234717Z
LAST-MODIFIED:20260323T193955Z
UID:58990-1775650200-1775653800@medfordrogue.org
SUMMARY:April 8\, 2026 Club Meeting - 4 Way Test Speech Contest
DESCRIPTION:Program Title: High Schools\, use the 4-way test as the basis for a 5-7 minute speech about any topic\nSpeaker:  3-6 high school students\nProgram Introducer: Kellie Hill\nSergeants: Kellie Hill
URL:https://medfordrogue.org/event/april-8-2026-club-meeting/
CATEGORIES:Club Meeting,Zoom Available
ATTACH;FMTTYPE=image/jpeg:https://medfordrogue.org/wp-content/uploads/2024/10/Meeting-Image.jpg
END:VEVENT
BEGIN:VEVENT
DTSTART;TZID=America/Los_Angeles:20260409T173000
DTEND;TZID=America/Los_Angeles:20260409T183000
DTSTAMP:20260421T143227
CREATED:20260126T235655Z
LAST-MODIFIED:20260127T012846Z
UID:58998-1775755800-1775759400@medfordrogue.org
SUMMARY:April 9\, 2026 Satellite Club Meeting
DESCRIPTION:
URL:https://medfordrogue.org/event/april-9-2026-satellite-club-meeting/
LOCATION:Gold Rush Brewing\, 1100 N Central Ave\, Medford\, OR\, 97501\, United States
CATEGORIES:Satellite Club Meeting
ATTACH;FMTTYPE=image/png:https://medfordrogue.org/wp-content/uploads/2026/01/Medford-Rogue-Satellite-Club.png
END:VEVENT
BEGIN:VEVENT
DTSTART;TZID=America/Los_Angeles:20260415T121000
DTEND;TZID=America/Los_Angeles:20260415T131000
DTSTAMP:20260421T143227
CREATED:20260224T033926Z
LAST-MODIFIED:20260224T033942Z
UID:59132-1776255000-1776258600@medfordrogue.org
SUMMARY:April 15\, 2026-No Meeting
DESCRIPTION:
URL:https://medfordrogue.org/event/april-15-2026/
CATEGORIES:Club Meeting
ATTACH;FMTTYPE=image/jpeg:https://medfordrogue.org/wp-content/uploads/2024/08/No-meeting-150x150-1.jpg
END:VEVENT
BEGIN:VEVENT
DTSTART;TZID=America/Los_Angeles:20260422T121000
DTEND;TZID=America/Los_Angeles:20260422T131000
DTSTAMP:20260421T143227
CREATED:20260126T235007Z
LAST-MODIFIED:20260410T053042Z
UID:58994-1776859800-1776863400@medfordrogue.org
SUMMARY:April 22\, 2026 Club Meeting - Rogue Retreat Update
DESCRIPTION:Program Title: Update from Rogue Retreat\nSpeaker: Sam Engel\nProgram Introducer: Tim Chesley\nSergeants:\nGreeters: Amy Thuren and Angela Durant
URL:https://medfordrogue.org/event/april-22-2026-club-meeting/
CATEGORIES:Club Meeting,Zoom Available
ATTACH;FMTTYPE=image/jpeg:https://medfordrogue.org/wp-content/uploads/2024/10/Meeting-Image.jpg
END:VEVENT
BEGIN:VEVENT
DTSTART;TZID=America/Los_Angeles:20260423T173000
DTEND;TZID=America/Los_Angeles:20260423T183000
DTSTAMP:20260421T143227
CREATED:20260126T235804Z
LAST-MODIFIED:20260127T012810Z
UID:59000-1776965400-1776969000@medfordrogue.org
SUMMARY:April 23\, 2026 Satellite Club Meeting
DESCRIPTION:
URL:https://medfordrogue.org/event/april-23-2026-satellite-club-meeting/
LOCATION:Gold Rush Brewing\, 1100 N Central Ave\, Medford\, OR\, 97501\, United States
CATEGORIES:Satellite Club Meeting
ATTACH;FMTTYPE=image/png:https://medfordrogue.org/wp-content/uploads/2026/01/Medford-Rogue-Satellite-Club.png
END:VEVENT
BEGIN:VEVENT
DTSTART;TZID=America/Los_Angeles:20260429T121000
DTEND;TZID=America/Los_Angeles:20260429T131000
DTSTAMP:20260421T143227
CREATED:20260126T235116Z
LAST-MODIFIED:20260415T174203Z
UID:58996-1777464600-1777468200@medfordrogue.org
SUMMARY:April 29\, 2026 Club Meeting - Peace on Earth thru Rotary
DESCRIPTION:Program Title: An overview of the strategic role of Peace with Rotary Int’l\nSpeaker: David Wick\, Exec Director of Culture Peace Commission in Ashland\nProgram Introducer: Linda Brown\nSergeants: Gina Clyburn
URL:https://medfordrogue.org/event/april-29-2026-club-meeting/
CATEGORIES:Club Meeting,Zoom Available
ATTACH;FMTTYPE=image/jpeg:https://medfordrogue.org/wp-content/uploads/2024/10/Meeting-Image.jpg
END:VEVENT
BEGIN:VEVENT
DTSTART;TZID=America/Los_Angeles:20260514T173000
DTEND;TZID=America/Los_Angeles:20260514T173000
DTSTAMP:20260421T143227
CREATED:20260224T035114Z
LAST-MODIFIED:20260415T010438Z
UID:59149-1778779800-1778779800@medfordrogue.org
SUMMARY:May 14\, 2026 Satellite Club Meeting
DESCRIPTION:
URL:https://medfordrogue.org/event/may-7-2026-satellite-club-meeting/
LOCATION:Gold Rush Brewing\, 1100 N Central Ave\, Medford\, OR\, 97501\, United States
CATEGORIES:Satellite Club Meeting
ATTACH;FMTTYPE=image/png:https://medfordrogue.org/wp-content/uploads/2026/01/Medford-Rogue-Satellite-Club.png
END:VEVENT
BEGIN:VEVENT
DTSTART;TZID=America/Los_Angeles:20260520T121000
DTEND;TZID=America/Los_Angeles:20260520T131000
DTSTAMP:20260421T143227
CREATED:20260224T034619Z
LAST-MODIFIED:20260321T210033Z
UID:59142-1779279000-1779282600@medfordrogue.org
SUMMARY:May 20\, 2026 No Meeting
DESCRIPTION:Program Title: TBD\nSpeaker: TBD\nProgram Introducer: TBD\nGreeter: TBD\nSergeants: TBD
URL:https://medfordrogue.org/event/may-20-2026-no-meeting/
CATEGORIES:Club Meeting,Zoom Available
ATTACH;FMTTYPE=image/jpeg:https://medfordrogue.org/wp-content/uploads/2024/08/No-meeting-150x150-1.jpg
END:VEVENT
BEGIN:VEVENT
DTSTART;TZID=America/Los_Angeles:20260527T121000
DTEND;TZID=America/Los_Angeles:20260527T131000
DTSTAMP:20260421T143227
CREATED:20260224T034815Z
LAST-MODIFIED:20260327T233305Z
UID:59147-1779883800-1779887400@medfordrogue.org
SUMMARY:May 27\, 2026 Club Meeting--  Update on Mt Ashland Ski Resort
DESCRIPTION:Program Title: Update on Mt Ashland Ski Resort\nSpeaker: Adam Reiss and Blair Moody\nProgram Introducer: TBD\nGreeter:  TBD\nSergeants: Kurt Hildebrand
URL:https://medfordrogue.org/event/may-27-2026-club-meeting/
CATEGORIES:Club Meeting,Zoom Available
ATTACH;FMTTYPE=image/jpeg:https://medfordrogue.org/wp-content/uploads/2024/10/Meeting-Image.jpg
END:VEVENT
END:VCALENDAR